BEGIN:VCALENDAR
VERSION:2.0
PRODID:-//ChamberMaster//Event Calendar 2.0//EN
METHOD:PUBLISH
X-PUBLISHED-TTL:P3D
REFRESH-INTERVAL:P3D
CALSCALE:GREGORIAN
BEGIN:VEVENT
DTSTART:20131019T130000Z
DTEND:20131019T180000Z
X-MICROSOFT-CDO-ALLDAYEVENT:FALSE
SUMMARY:Yard Sale at Calvin Presbyterian Church
DESCRIPTION:Rain or Shine!\n\n\n\nCome find a treasure\, or sell some of your own!
X-ALT-DESC;FMTTYPE=text/html:Rain or Shine!<br />\n<br />\nCome find a treasure\, or sell some of your own!<br />\n&nbsp\;
LOCATION:The Church Gathered at Calvin 2501 Rudy Lane Louisville\, KY 40207
UID:e.9037.1614
SEQUENCE:3
DTSTAMP:20260425T192727Z
URL:https://business.stmatthewschamber.com/events/details/yard-sale-at-calvin-presbyterian-church-10-19-2013-1614
END:VEVENT

END:VCALENDAR
