BEGIN:VCALENDAR
VERSION:2.0
PRODID:-//ChamberMaster//Event Calendar 2.0//EN
METHOD:PUBLISH
X-PUBLISHED-TTL:P3D
REFRESH-INTERVAL:P3D
CALSCALE:GREGORIAN
BEGIN:VEVENT
DTSTART:20160525T123000Z
DTEND:20160525T153000Z
X-MICROSOFT-CDO-ALLDAYEVENT:FALSE
SUMMARY:Workforce Development Series - Time Strategies for Those Who "Don't Have Time"
DESCRIPTION:This class is open to all members and their employees.\n\n \n\nIf you think you never have enough time to get things done...think again! Do more\, do it better\, do it faster\, and with less stress. Learn how to get control of your time\, be more organized\, manage your energies\, avoid stress\, and cut through clutter than can block you from greater success. Focusing on how well you manage your time is a key to achieving improved results in your business and personal life.\n\n \n\nThis session will help you:\n\n \n\n\n	Set and achieve realistic goals.\n	Set and manage priorities.\n	Plan your week and your day.\n	Deal with interruptions.\n	Overcome procrastination.\n	Eliminate clutter and get organized.\n	Deal with email overload.\n	Avoid stress in your personal and professional life.\n\n\n\nThis will be an interactive workshop with plenty of takeaways and ideas that you can begin implementing immediately.\n\n \n\n\nThis Chamber of St. Matthews Education Program is produced in cooperation with Dynamic Outcomes and will be held to the highest standards of education and integrity.
X-ALT-DESC;FMTTYPE=text/html:<center style="color: rgb(0\, 0\, 0)\; font-family: Arial\, Helvetica\, sans-serif\; font-size: 12px\; line-height: normal\;"><b><span style="font-size: medium\;"><span style="font-size: 16px\;">This class is open to all members and their employees.</span></span></b><br />\n&nbsp\;</center>\n\n<div style="color: rgb(0\, 0\, 0)\; font-family: Arial\, Helvetica\, sans-serif\; font-size: 12px\; line-height: normal\;"><font size="2"><span style="font-size: 14px\;">If you think you never have enough time to get things done...think again! Do more\, do it better\, do it faster\, and with less stress. Learn how to get control of your time\, be more organized\, manage your energies\, avoid stress\, and cut through clutter than can block you from greater success. Focusing on how well you manage your time is a key to achieving improved results in your business and personal life.</span></font><br />\n&nbsp\;</div>\n\n<center style="color: rgb(0\, 0\, 0)\; font-family: Arial\, Helvetica\, sans-serif\; font-size: 12px\; line-height: normal\;"><b><span style="font-size: 16px\;"><font size="3">This session will help you:</font></span></b><br />\n&nbsp\;</center>\n\n<ul style="padding-left: 2.5em\; color: rgb(0\, 0\, 0)\; font-family: Arial\, Helvetica\, sans-serif\; font-size: 12px\; line-height: normal\; text-align: center\;">\n	<li style="text-align: left\;"><span style="font-size: 14px\;">Set and achieve realistic goals.</span></li>\n	<li style="text-align: left\;"><span style="font-size: 14px\;">Set and manage priorities.</span></li>\n	<li style="text-align: left\;"><span style="font-size: 14px\;">Plan your week and your day.</span></li>\n	<li style="text-align: left\;"><span style="font-size: 14px\;">Deal with interruptions.</span></li>\n	<li style="text-align: left\;"><span style="font-size: 14px\;">Overcome procrastination.</span></li>\n	<li style="text-align: left\;"><span style="font-size: 14px\;">Eliminate clutter and get organized.</span></li>\n	<li style="text-align: left\;"><span style="font-size: 14px\;">Deal with email overload.</span></li>\n	<li style="text-align: left\;"><span style="font-size: 14px\;">Avoid stress in your personal and professional life.</span></li>\n</ul>\n<br style="color: rgb(0\, 0\, 0)\; font-family: Arial\, Helvetica\, sans-serif\; font-size: 12px\; line-height: normal\;" />\n<span style="color: rgb(0\, 0\, 0)\; font-family: Arial\, Helvetica\, sans-serif\; line-height: normal\; font-size: 14px\;">This will be an interactive workshop with plenty of takeaways and ideas that you can begin implementing immediately.</span><br style="color: rgb(0\, 0\, 0)\; font-family: Arial\, Helvetica\, sans-serif\; font-size: 12px\; line-height: normal\;" />\n&nbsp\;\n<center style="color: rgb(0\, 0\, 0)\; font-family: Arial\, Helvetica\, sans-serif\; font-size: 12px\; line-height: normal\;"><br />\n<em><span style="font-size: small\;">This Chamber of St. Matthews Education Program is produced in cooperation with Dynamic Outcomes and will be held to the highest standards of education and integrity.</span></em></center>\n
LOCATION:Chamber of St. Matthews 3rd Floor Conference Room 3940 Grandview Avenue Louisville\, KY 40207
UID:e.9037.2816
SEQUENCE:3
DTSTAMP:20260421T085810Z
URL:https://business.stmatthewschamber.com/events/details/workforce-development-series-time-strategies-for-those-who-don-t-have-time-05-25-2016-2816
END:VEVENT

END:VCALENDAR
