BEGIN:VCALENDAR
VERSION:2.0
PRODID:-//ChamberMaster//Event Calendar 2.0//EN
METHOD:PUBLISH
X-PUBLISHED-TTL:P3D
REFRESH-INTERVAL:P3D
CALSCALE:GREGORIAN
BEGIN:VEVENT
DTSTART:20121218T133000Z
DTEND:20121218T143000Z
X-MICROSOFT-CDO-ALLDAYEVENT:FALSE
SUMMARY:Women of SMACC present A Morning at Kosair
DESCRIPTION:The Women of SMACC would like to cordially invite you to join us December 18th to hear Vicky Weber of Kosair Charities and Shelley snyder of Trust for Life speak about their incredible organizations. Come learn what we can do as a community and individuals to help others this holiday season.\n\n\n\nThis event will be held in the Community Room of the Kosair Charities Main Building located at 982 Eastern Parkway Louisville\, KY 40217 from 8:30 to 9:30 a.m. Breakfast will be provided so please RSVP to Claire Weppler at the Chamber at 899-2523. There is no fee\, all we ask is that you bring a new or gently used toy to be donated to Kosair Chairities.
X-ALT-DESC;FMTTYPE=text/html:The Women of SMACC would like to cordially invite you to join us December 18th to hear Vicky Weber of Kosair Charities and Shelley snyder of Trust for Life speak about their incredible organizations. Come learn what we can do as a community and individuals to help others this holiday season.<br />\n<br />\nThis event will be held in the Community Room of the Kosair Charities Main Building located at 982 Eastern Parkway Louisville\, KY 40217 from 8:30 to 9:30 a.m. Breakfast will be provided so please RSVP to Claire Weppler at the Chamber at 899-2523. There is no fee\, all we ask is that you bring a new or gently used toy to be donated to Kosair Chairities.
LOCATION:Kosair Charities Main Building 982 Eastern Parkway Louisville\, KY 40217
UID:e.9037.1408
SEQUENCE:3
DTSTAMP:20260422T014146Z
URL:https://business.stmatthewschamber.com/events/details/women-of-smacc-present-a-morning-at-kosair-12-18-2012-1408
END:VEVENT

END:VCALENDAR
