BEGIN:VCALENDAR
VERSION:2.0
PRODID:-//ChamberMaster//Event Calendar 2.0//EN
METHOD:PUBLISH
X-PUBLISHED-TTL:P3D
REFRESH-INTERVAL:P3D
CALSCALE:GREGORIAN
BEGIN:VEVENT
DTSTART:20130307T213000Z
DTEND:20130307T233000Z
X-MICROSOFT-CDO-ALLDAYEVENT:FALSE
SUMMARY:Women of SMACC Networking Event
DESCRIPTION:Join us for a networking event after dark!\n\n\n\nThis event is open for all the Women of SMACC looking to connect with other female professionals. There is no cost to admission\, however we do ask that all in attendance bring one item to donate to the Family Scholar House
X-ALT-DESC;FMTTYPE=text/html:Join us for a networking event after dark!<br />\n<br />\nThis event is open for all the Women of SMACC looking to connect with other female professionals. There is no cost to admission\, however we do ask that all in attendance bring one item to donate to the Family Scholar House
LOCATION:Champps Americana 302 Bullitt Lane Louisville\, KY 40222
UID:e.9037.1427
SEQUENCE:3
DTSTAMP:20260421T210500Z
URL:https://business.stmatthewschamber.com/events/details/women-of-smacc-networking-event-03-07-2013-1427
END:VEVENT

END:VCALENDAR
