BEGIN:VCALENDAR
VERSION:2.0
PRODID:-//ChamberMaster//Event Calendar 2.0//EN
METHOD:PUBLISH
X-PUBLISHED-TTL:P3D
REFRESH-INTERVAL:P3D
CALSCALE:GREGORIAN
BEGIN:VEVENT
DTSTART:20130326T123000Z
DTEND:20130326T133000Z
X-MICROSOFT-CDO-ALLDAYEVENT:FALSE
SUMMARY:Women of SMACC Committee Meeting
DESCRIPTION:
X-ALT-DESC;FMTTYPE=text/html:
LOCATION:
UID:e.9037.1337
SEQUENCE:3
DTSTAMP:20260421T211414Z
URL:https://business.stmatthewschamber.com/events/details/women-of-smacc-committee-meeting-03-26-2013-1337
END:VEVENT

END:VCALENDAR
