BEGIN:VCALENDAR
VERSION:2.0
PRODID:-//ChamberMaster//Event Calendar 2.0//EN
METHOD:PUBLISH
X-PUBLISHED-TTL:P3D
REFRESH-INTERVAL:P3D
CALSCALE:GREGORIAN
BEGIN:VEVENT
DTSTART:20260422T123000Z
DTEND:20260422T133000Z
X-MICROSOFT-CDO-ALLDAYEVENT:FALSE
SUMMARY:WINSday Leads Group
DESCRIPTION:WINSday Leads meets the 2nd & 4th Wednesday of each month from 8:30-9:30 AM
X-ALT-DESC;FMTTYPE=text/html:<span style="font-size:14px\;">WINSday Leads meets the 2nd &amp\; 4th Wednesday of each month from 8:30-9:30 AM</span>
LOCATION:Central Bank Building (Flashcube) 9300 Shelbyville Road Floor 12 New York Life Board Room
UID:e.9037.11628
SEQUENCE:3
DTSTAMP:20260420T051425Z
URL:https://business.stmatthewschamber.com/events/details/winsday-leads-group-04-22-2026-11628
END:VEVENT

END:VCALENDAR
