BEGIN:VCALENDAR
VERSION:2.0
PRODID:-//ChamberMaster//Event Calendar 2.0//EN
METHOD:PUBLISH
X-PUBLISHED-TTL:P3D
REFRESH-INTERVAL:P3D
CALSCALE:GREGORIAN
BEGIN:VEVENT
DTSTART:20120421T140000Z
DTEND:20120421T160000Z
X-MICROSOFT-CDO-ALLDAYEVENT:FALSE
SUMMARY:Weight Loss Surgery Seminar at Baptist Hospital East
DESCRIPTION:To find out if you are a candidate for weight-loss surgery\, attend a free\, physician-led information seminar at 10 a.m. Saturday\, April 21 at Baptist Hospital East's Education Center. Pre-registration is required.\n\nTo register for an upcoming information session\, or for physician referral\, call the Baptist Hospital East Information Center at (502) 897-8131 or e-mail BHEInfoCenter@bhsi.com. Please provide your name\, complete address\, telephone number and seminar date selected in your e-mail. Online registration is also available at baptisteast.com/weightloss.\n\nBaptist Hospital East offers adjustable gastric banding weight loss (bariatric) surgery. The minimally invasive procedure is performed by surgeons G. Derek Weiss\, MD\, and John S. Oldham Jr.\, MD\, of Bluegrass Bariatric Surgical Associates.\n\nBariatric surgery reduces the size of the stomach and\, in some cases\, alters the digestion process to curb the amount of calories and nutrients absorbed. Most patients lose about 50 percent of their excess weight in the first year after surgery.\n\nHealth problems associated with excess weight also usually improve after surgery\, including problems with diabetes\, high blood pressure\, high cholesterol\, sleep apnea and joint pain.\n\nSuccess requires a drastic change in behavior\, including eating very small meals.\n\nThe gastric band procedure involves placing a collar on the stomach to make it smaller. The band is adjustable so it can be tightened or loosened to regulate food intake.\n\nAccording to the National Institutes of Health\, candidacy for weight-loss surgery is based on several factors including BMI\, or body mass index. To calculate your BMI\, go to baptisteast.com and type BMI in the search box.
X-ALT-DESC;FMTTYPE=text/html:To find out if you are a candidate for weight-loss surgery\, attend a free\, physician-led information seminar at 10 a.m. Saturday\, April 21 at Baptist Hospital East&rsquo\;s Education Center. Pre-registration is required.<br />\nTo register for an upcoming information session\, or for physician referral\, call the Baptist Hospital East Information Center at (502) 897-8131 or e-mail BHEInfoCenter@bhsi.com. Please provide your name\, complete address\, telephone number and seminar date selected in your e-mail. Online registration is also available at baptisteast.com/weightloss.<br />\nBaptist Hospital East offers adjustable gastric banding weight loss (bariatric) surgery. The minimally invasive procedure is performed by surgeons G. Derek Weiss\, MD\, and John S. Oldham Jr.\, MD\, of Bluegrass Bariatric Surgical Associates.<br />\nBariatric surgery reduces the size of the stomach and\, in some cases\, alters the digestion process to curb the amount of calories and nutrients absorbed. Most patients lose about 50 percent of their excess weight in the first year after surgery.<br />\nHealth problems associated with excess weight also usually improve after surgery\, including problems with diabetes\, high blood pressure\, high cholesterol\, sleep apnea and joint pain.<br />\nSuccess requires a drastic change in behavior\, including eating very small meals.<br />\nThe gastric band procedure involves placing a collar on the stomach to make it smaller. The band is adjustable so it can be tightened or loosened to regulate food intake.<br />\nAccording to the National Institutes of Health\, candidacy for weight-loss surgery is based on several factors including BMI\, or body mass index. To calculate your BMI\, go to baptisteast.com and type BMI in the search box.<br />\n
LOCATION:Baptist Hospital East?s Education Center\, 4000 Kresge Way
UID:e.9037.1025
SEQUENCE:3
DTSTAMP:20260424T153516Z
URL:https://business.stmatthewschamber.com/events/details/weight-loss-surgery-seminar-at-baptist-hospital-east-04-21-2012-1025
END:VEVENT

END:VCALENDAR
