BEGIN:VCALENDAR
VERSION:2.0
PRODID:-//ChamberMaster//Event Calendar 2.0//EN
METHOD:PUBLISH
X-PUBLISHED-TTL:P3D
REFRESH-INTERVAL:P3D
CALSCALE:GREGORIAN
BEGIN:VEVENT
DTSTART:20120317T140000Z
DTEND:20120317T160000Z
X-MICROSOFT-CDO-ALLDAYEVENT:FALSE
SUMMARY:Weight-Loss Surgery Information Session at Baptist Hospital East
DESCRIPTION:To find out if you are a candidate for weight-loss surgery\, attend a free\, physician-led information seminar planned for 10 a.m. Saturday\, March 17 at Baptist Hospital East's Education Center.\n\nPre-register: (502) 897-8131 or e-mail BHEInfoCenter@bhsi.com.
X-ALT-DESC;FMTTYPE=text/html:To find out if you are a candidate for weight-loss surgery\, attend a free\, physician-led information seminar planned for 10 a.m. Saturday\, March 17 at Baptist Hospital East&rsquo\;s Education Center.<br />\nPre-register: (502) 897-8131 or e-mail BHEInfoCenter@bhsi.com.<br />\n
LOCATION:Baptist Hospital East?s Education Center\, 4000 Kresge Way
UID:e.9037.1003
SEQUENCE:3
DTSTAMP:20260424T163812Z
URL:https://business.stmatthewschamber.com/events/details/weight-loss-surgery-information-session-at-baptist-hospital-east-03-17-2012-1003
END:VEVENT

END:VCALENDAR
