BEGIN:VCALENDAR
VERSION:2.0
PRODID:-//ChamberMaster//Event Calendar 2.0//EN
METHOD:PUBLISH
X-PUBLISHED-TTL:P3D
REFRESH-INTERVAL:P3D
CALSCALE:GREGORIAN
BEGIN:VEVENT
DTSTART:20130116T210000Z
DTEND:20130116T220000Z
X-MICROSOFT-CDO-ALLDAYEVENT:FALSE
SUMMARY:"Watch the Chef and learn" Cooking class
DESCRIPTION:Perfect for any day! Grab an apron\, and join our fun chef at this hands-on cooking class. Learn new culinary skills and meet other fun people while creating a delicious gourmet meal. With recipes and photos emailed to attendees after the event\, you can impress your friends again and again!
X-ALT-DESC;FMTTYPE=text/html:Perfect for any day! Grab an apron\, and join our fun chef at this hands-on cooking class. Learn new culinary skills and meet other fun people while creating a delicious gourmet meal. With recipes and photos emailed to attendees after the event\, you can impress your friends again and again!
LOCATION:102 Fairfax Ave in St Matthews.
UID:e.9037.1412
SEQUENCE:3
DTSTAMP:20260425T155335Z
URL:https://business.stmatthewschamber.com/events/details/watch-the-chef-and-learn-cooking-class-01-16-2013-1412
END:VEVENT

END:VCALENDAR
