BEGIN:VCALENDAR
VERSION:2.0
PRODID:-//ChamberMaster//Event Calendar 2.0//EN
METHOD:PUBLISH
X-PUBLISHED-TTL:P3D
REFRESH-INTERVAL:P3D
CALSCALE:GREGORIAN
BEGIN:VEVENT
DTSTART:20201004T180000Z
DTEND:20201026T020000Z
X-MICROSOFT-CDO-ALLDAYEVENT:FALSE
SUMMARY:Virtual Happy Ever After Wedding Show
DESCRIPTION:The Virtual Happy Ever After Wedding Show offers a week long virtual show to help brides\, grooms and their partners plan their big day (virtually) with some of the best vendors the area has to offer. Visit us from October 4 - October 11 as we offer a week long opportunity to take the stress out of planning a wedding! This is a FREE event for brides and grooms with opportunities to schedule meetings with vendors\, information and wedding resources to help you plan your big day so you both can live Happy Ever After!\n\n\n\nThe site will go live Sunday\, October 4 at 2pm. www.happyeverweddings.com \n\n\n\nVendors\, Register to exhibit here: http://happyeverafterweddings.com/become-a-vendor/ \n\n\n\nFor questions\, or to participate in a future show\, email Kristenf@stmatthewschamber.com
X-ALT-DESC;FMTTYPE=text/html:<span style="color: rgb(5\, 5\, 5)\; font-family: &quot\;Segoe UI Historic&quot\;\, &quot\;Segoe UI&quot\;\, Helvetica\, Arial\, sans-serif\; font-size: 15px\; white-space: pre-wrap\; background-color: rgb(255\, 255\, 255)\;">The Virtual Happy Ever After Wedding Show offers a week long virtual show to help brides\, grooms and their partners plan their big day (virtually) with some of the best vendors the area has to offer. Visit us from October 4 - October 11 as we offer a week long opportunity to take the stress out of planning a wedding! This is a FREE event for brides and grooms with opportunities to schedule meetings with vendors\, information and wedding resources to help you plan your big day so you both can live Happy Ever After!<br />\n<br />\nThe site will go live Sunday\, October 4 at 2pm. www.happyeverweddings.com </span><br />\n<br style="color: rgb(29\, 33\, 41)\; font-family: Helvetica\, Arial\, sans-serif\; font-size: 14px\; white-space: pre-wrap\; background-color: rgb(255\, 255\, 255)\;" />\n<span style="font-size:16px\;"><span style="color: rgb(29\, 33\, 41)\; font-family: Helvetica\, Arial\, sans-serif\; white-space: pre-wrap\; background-color: rgb(255\, 255\, 255)\;">Vendors\, Register to exhibit here: </span><a data-lynx-mode="hover" href="https://l.facebook.com/l.php?u=http%3A%2F%2Fhappyeverafterweddings.com%2Fbecome-a-vendor%2F%3Ffbclid%3DIwAR1qV39nSnN7e5gNE2VB3C-NyfTJf-6xsAXiomJ6jK2iKBv-7RBxtZwp_L0&amp\;h=AT3izMW_C3MU8hVY0Aaamok_jso4eKEGRjS5Ey0-YAQWBh7K6W4gI0tfkbvZzlzJLViqb5UaOUHJNHaLDNHEj7uXgc1m9PrBTDWVppTWk1gLaBdhX-R6QhF3KiH_zj44Gw" rel="nofollow noopener" style="color: rgb(56\, 88\, 152)\; cursor: pointer\; text-decoration-line: none\; font-family: Helvetica\, Arial\, sans-serif\; font-size: 14px\; white-space: pre-wrap\; background-color: rgb(255\, 255\, 255)\;" target="_blank">http://happyeverafterweddings.com/become-a-vendor/</a><span style="color: rgb(29\, 33\, 41)\; font-family: Helvetica\, Arial\, sans-serif\; white-space: pre-wrap\; background-color: rgb(255\, 255\, 255)\;"> </span><br style="color: rgb(29\, 33\, 41)\; font-family: Helvetica\, Arial\, sans-serif\; font-size: 14px\; white-space: pre-wrap\; background-color: rgb(255\, 255\, 255)\;" />\n<br style="color: rgb(29\, 33\, 41)\; font-family: Helvetica\, Arial\, sans-serif\; font-size: 14px\; white-space: pre-wrap\; background-color: rgb(255\, 255\, 255)\;" />\n<span style="color: rgb(29\, 33\, 41)\; font-family: Helvetica\, Arial\, sans-serif\; white-space: pre-wrap\; background-color: rgb(255\, 255\, 255)\;">For questions\, or to participate in a future show\, email Kristenf@stmatthewschamber.com </span></span>
LOCATION:Virtual
UID:e.9037.5624
SEQUENCE:3
DTSTAMP:20260424T002443Z
URL:https://business.stmatthewschamber.com/events/details/virtual-happy-ever-after-wedding-show-5624
END:VEVENT

END:VCALENDAR
