BEGIN:VCALENDAR
VERSION:2.0
PRODID:-//ChamberMaster//Event Calendar 2.0//EN
METHOD:PUBLISH
X-PUBLISHED-TTL:P3D
REFRESH-INTERVAL:P3D
CALSCALE:GREGORIAN
BEGIN:VEVENT
DTSTART:20131215T173000Z
DTEND:20131215T183000Z
X-MICROSOFT-CDO-ALLDAYEVENT:FALSE
SUMMARY:UofL Coach Rick Pitino to Sign His New Book\, The One Day Contract
DESCRIPTION:On Sunday\, December 15th from 12:30pm to 1:30pm UofL Men's Basketball Coach and Author Rick Pitino will be on hand to sign his new book at A Taste of Kentucky's Shelbyville Road Plaza location. The book\, entitled The One Day Contract: How to Add Value to Every Minute of Your Life\, can be pre-ordered at www.aTasteOfKentucky.com.
X-ALT-DESC;FMTTYPE=text/html:<span style="font-family:cambria\,serif\;">On Sunday\, December 15th from 12:30pm to 1:30pm UofL Men&rsquo\;s Basketball Coach and Author Rick Pitino will be on hand to sign his new book at A Taste of Kentucky&rsquo\;s Shelbyville Road Plaza location. The book\, entitled <em>The One Day Contract: How to Add Value to Every Minute of Your Life</em>\, can be pre-ordered at <a href="http://www.atasteofkentucky.com/">www.aTasteOfKentucky.com</a>. </span>
LOCATION:A Taste of Kentucky's Shelbyville Road Plaza location
UID:e.9037.1634
SEQUENCE:3
DTSTAMP:20260425T214649Z
URL:https://business.stmatthewschamber.com/events/details/uofl-coach-rick-pitino-to-sign-his-new-book-the-one-day-contract-12-15-2013-1634
END:VEVENT

END:VCALENDAR
