BEGIN:VCALENDAR
VERSION:2.0
PRODID:-//ChamberMaster//Event Calendar 2.0//EN
METHOD:PUBLISH
X-PUBLISHED-TTL:P3D
REFRESH-INTERVAL:P3D
CALSCALE:GREGORIAN
BEGIN:VEVENT
DTSTART:20121215T000000Z
DTEND:20121215T020000Z
X-MICROSOFT-CDO-ALLDAYEVENT:FALSE
SUMMARY:Trinity High School Choral and Jazz Band Christmas Concert
DESCRIPTION:
X-ALT-DESC;FMTTYPE=text/html:
LOCATION:
UID:e.9037.1317
SEQUENCE:3
DTSTAMP:20260425T170805Z
URL:https://business.stmatthewschamber.com/events/details/trinity-high-school-choral-and-jazz-band-christmas-concert-12-14-2012-1317
END:VEVENT

END:VCALENDAR
