BEGIN:VCALENDAR
VERSION:2.0
PRODID:-//ChamberMaster//Event Calendar 2.0//EN
METHOD:PUBLISH
X-PUBLISHED-TTL:P3D
REFRESH-INTERVAL:P3D
CALSCALE:GREGORIAN
BEGIN:VEVENT
DTSTART:20130723T210000Z
DTEND:20130723T230000Z
X-MICROSOFT-CDO-ALLDAYEVENT:FALSE
SUMMARY:Think Tank: We the Owners
DESCRIPTION:Share the inspiring stories of employee owners and founders from New Belgium Brewing\, Namaste Solar\, and DPR Construction. Follow their decisions on expansion\, succession\, recruitment and layoffs. Learn about cultural challenges of sharing responsibility\, leadership\, and risk and reward. See the impacts of employees understanding business financials. Hear approaches to working collaboratively to be profitable\, innovative\, and sustainable.
X-ALT-DESC;FMTTYPE=text/html:<span style="color:#1f497d\;">Share the inspiring stories of employee owners and founders from New Belgium Brewing\, Namaste Solar\, and DPR Construction. Follow their decisions on expansion\, succession\, recruitment and layoffs. Learn about cultural challenges of sharing responsibility\, leadership\, and risk and reward. See the impacts of employees understanding business financials. Hear approaches to working collaboratively to be profitable\, innovative\, and sustainable.</span><br />\n
LOCATION:Legacy Hotel & Conferences Southern Seminary 2825 Lexington Road Louisville\, KY 40280
UID:e.9037.1591
SEQUENCE:3
DTSTAMP:20260421T155030Z
URL:https://business.stmatthewschamber.com/events/details/think-tank-we-the-owners-07-23-2013-1591
END:VEVENT

END:VCALENDAR
