BEGIN:VCALENDAR
VERSION:2.0
PRODID:-//ChamberMaster//Event Calendar 2.0//EN
METHOD:PUBLISH
X-PUBLISHED-TTL:P3D
REFRESH-INTERVAL:P3D
CALSCALE:GREGORIAN
BEGIN:VEVENT
DTSTART:20130228T130000Z
DTEND:20130228T150000Z
X-MICROSOFT-CDO-ALLDAYEVENT:FALSE
SUMMARY:Think Tank: Understanding the Options as We Age
DESCRIPTION:Come join us on February 28th for the first Think Tank of 2013. We will be discussing ways to find answers for those important  questions that deal with the big issues we all face later in life. This is a dual hosted Think Tank\, the first of it's kind! Waddell & Reed\, a group of financial advisors\, has teamed up with The Episcopal Church Home\, a senior living community\, to help you answer   questions like:\n\n\n\n  How will you continue to live independently?\n\n  When should you begin the search?\n\n  What exactly should you be looking for?\n\n  Medicare will pay for everything\, right?\n\n  If not\, who will?
X-ALT-DESC;FMTTYPE=text/html:<span style="language:en-US\;">Come join us on February 28th for the first Think Tank of 2013. We will be discussing ways to find answers for those important&nbsp\; questions that deal with the big issues we all face later in life. This is a dual hosted Think Tank\, the first of it&rsquo\;s kind! Waddell &amp\; Reed\, a group of financial advisors\, has teamed up with The Episcopal Church Home\, a senior living community\, to help you answer&nbsp\;&nbsp\; questions like:</span><br />\n<br />\n<span style="direction:ltr\;unicode-bidi:embed\;language:x-none\;"><span style="color:black\;"><span style="font-size:10.0pt\;"><span style="font-family:symbol\;">&middot\;</span></span></span></span>&nbsp\;<span style="language:en-US\;">How will you continue to live independently?</span><br />\n<span style="direction:ltr\;unicode-bidi:embed\;language:x-none\;"><span style="color:black\;"><span style="font-size:10.0pt\;"><span style="font-family:symbol\;">&middot\;</span></span></span></span>&nbsp\;<span style="language:en-US\;">When should you begin the search?</span><br />\n<span style="direction:ltr\;unicode-bidi:embed\;language:x-none\;"><span style="color:black\;"><span style="font-size:10.0pt\;"><span style="font-family:symbol\;">&middot\;</span></span></span></span>&nbsp\;<span style="language:en-US\;">What exactly should you be looking for?</span><br />\n<span style="direction:ltr\;unicode-bidi:embed\;language:x-none\;"><span style="color:black\;"><span style="font-size:10.0pt\;"><span style="font-family:symbol\;">&middot\;</span></span></span></span>&nbsp\;<span style="language:en-US\;">Medicare will pay for everything\, right?</span><br />\n<span style="direction:ltr\;unicode-bidi:embed\;language:x-none\;"><span style="color:black\;"><span style="font-size:10.0pt\;"><span style="font-family:symbol\;">&middot\;</span></span></span></span>&nbsp\;<span style="language:en-US\;">If not\, who will?</span><br />\n&nbsp\;
LOCATION:Episcopal Church Home 7504 Westport Road
UID:e.9037.1413
SEQUENCE:3
DTSTAMP:20260422T001123Z
URL:https://business.stmatthewschamber.com/events/details/think-tank-understanding-the-options-as-we-age-02-28-2013-1413
END:VEVENT

END:VCALENDAR
