BEGIN:VCALENDAR
VERSION:2.0
PRODID:-//ChamberMaster//Event Calendar 2.0//EN
METHOD:PUBLISH
X-PUBLISHED-TTL:P3D
REFRESH-INTERVAL:P3D
CALSCALE:GREGORIAN
BEGIN:VEVENT
DTSTART:20120904T120000Z
DTEND:20120904T133000Z
X-MICROSOFT-CDO-ALLDAYEVENT:FALSE
SUMMARY:Think Tank - Social Media - What's Trending Now
DESCRIPTION:Speaker: Chris Whigham - Derby City Social Media
X-ALT-DESC;FMTTYPE=text/html:Speaker: Chris Whigham&nbsp\;- Derby City Social Media
LOCATION:Clear Channel Radio 4000 #1 Radio Drive Louisville KY 40218 Suggested routes 6.2 mi\, 15 mins In current traffic: 22 mins Baxter Ave and Newburg Rd 8.4 mi\, 15 mins In current traffic: 15 mins I-65 S 8.7 mi\, 18 mins In current traffic: 21 mins S Preston St Driving directions to 4000 Radio Dr\, Louisville\, KY 40218 Louisville\, KY 1. Head north on S 5th St toward W Liberty St 197 ft 2. Take the 1st right onto W Liberty St 1.5 mi 3. Turn right onto Baxter Ave 1.9 mi 4. Continue onto Newburg Rd 2.4 mi 5. Turn right onto Bishop Ln 0.3 mi 6. Take the 3rd left onto Radio Dr Destination will be on the right 148 ft 4000 Radio Dr Louisville\, KY 40218
UID:e.9037.995
SEQUENCE:3
DTSTAMP:20260422T060701Z
URL:https://business.stmatthewschamber.com/events/details/think-tank-social-media-what-s-trending-now-09-04-2012-995
END:VEVENT

END:VCALENDAR
