BEGIN:VCALENDAR
VERSION:2.0
PRODID:-//ChamberMaster//Event Calendar 2.0//EN
METHOD:PUBLISH
X-PUBLISHED-TTL:P3D
REFRESH-INTERVAL:P3D
CALSCALE:GREGORIAN
BEGIN:VEVENT
DTSTART:20120717T120000Z
DTEND:20120717T140000Z
X-MICROSOFT-CDO-ALLDAYEVENT:FALSE
SUMMARY:Think Tank: Social Media Marketing Strategy with Jason Falls
DESCRIPTION:Jason Falls\, founder and CEO of Social Media Explorer SocialMediaExplorer.com\, author\, thought leader and one of the most in-demand speakers on social media will provide his presentation to St. Matthews Area Chamber of Commerce Members Only on Tuesday July 17th 8:00 am   10:00 am.\n\n \n\nJason will present  "Social Media Marketing Strategy"\n\n \n\nRead Jason's interview in Forbes.com on the ROI of Social Media\n\n \n\nhttp://www.forbes.com/sites/danschawbel/2011/09/26/the-real-roi-of-social-media/
X-ALT-DESC;FMTTYPE=text/html:Jason Falls\, founder and CEO of Social Media Explorer <a href="http://SocialMediaExplorer.com">SocialMediaExplorer.com</a>\, author\, thought leader and one of the most in-demand speakers on social media will provide his presentation to St. Matthews Area Chamber of Commerce Members Only on Tuesday July 17<sup>th</sup> 8:00 am &ndash\; 10:00 am.<br />\n&nbsp\;<br />\nJason will present&nbsp\; &ldquo\;Social Media Marketing Strategy&rdquo\;<br />\n&nbsp\;<br />\nRead Jason&rsquo\;s interview in Forbes.com on the ROI of Social Media<br />\n&nbsp\;<br />\n<a href="http://www.forbes.com/sites/danschawbel/2011/09/26/the-real-roi-of-social-media/">http://www.forbes.com/sites/danschawbel/2011/09/26/the-real-roi-of-social-media/</a><br />\n&nbsp\;
LOCATION:Location to be announced.
UID:e.9037.1070
SEQUENCE:3
DTSTAMP:20260422T094325Z
URL:https://business.stmatthewschamber.com/events/details/think-tank-social-media-marketing-strategy-with-jason-falls-07-17-2012-1070
END:VEVENT

END:VCALENDAR
