BEGIN:VCALENDAR
VERSION:2.0
PRODID:-//ChamberMaster//Event Calendar 2.0//EN
METHOD:PUBLISH
X-PUBLISHED-TTL:P3D
REFRESH-INTERVAL:P3D
CALSCALE:GREGORIAN
BEGIN:VEVENT
DTSTART:20121113T123000Z
DTEND:20121113T140000Z
X-MICROSOFT-CDO-ALLDAYEVENT:FALSE
SUMMARY:Think Tank - Networking in the Social Setting
DESCRIPTION:Networking in the Social Setting\n\n\n\nAre you looking to build your business?\n\nDo you want to take your business to the next level?\n\nWould you like to fine tune your networking skills?\n\n\n\nIf you answered yes to any of these questions then you will be interested in our next Think Tank presented by Velma Watkins of Burdorfs. The November Think Tank will focus on how to improve your networking skills as well as how to maximize your potential in social situations.
X-ALT-DESC;FMTTYPE=text/html:Networking in the Social Setting<br />\n<br />\nAre you looking to build your business?<br />\nDo you want to take your business to the next level?<br />\nWould you like to fine tune your networking skills?<br />\n<br />\nIf you answered yes to any of these questions then you will be interested in our next Think Tank presented by Velma Watkins of Burdorfs. The November Think Tank will focus on how to improve your networking skills as well as how to maximize your potential in social situations.
LOCATION:Clear Channel Radio #1 4000 Radio Drive Louisville\, KY 40218 (off of Newburg Rd.)
UID:e.9037.1079
SEQUENCE:3
DTSTAMP:20260422T042940Z
URL:https://business.stmatthewschamber.com/events/details/think-tank-networking-in-the-social-setting-11-13-2012-1079
END:VEVENT

END:VCALENDAR
