BEGIN:VCALENDAR
VERSION:2.0
PRODID:-//ChamberMaster//Event Calendar 2.0//EN
METHOD:PUBLISH
X-PUBLISHED-TTL:P3D
REFRESH-INTERVAL:P3D
CALSCALE:GREGORIAN
BEGIN:VEVENT
DTSTART:20120229T170000Z
DTEND:20120229T180000Z
X-MICROSOFT-CDO-ALLDAYEVENT:FALSE
SUMMARY:Think Tank - Mastering the Chamber Tools for Success
DESCRIPTION:February Think Tank\n\n\n\nMastering the Chamber Tools for Success\n\n\n\nGet a first-hand look at YOUR NEW CHAMBER WEBSITE and all of the online tools that increase your online presence. Lear about:\n\n\n	\n		Managing your Chamber membership\n	\n		Updating your profile\n	\n		Enhanced profile options\n	\n		Renewing your membership\n	\n		Registering for events and paying online\n	\n		Adding Hot Deals or M2M (Member2Member) offers\n	\n		New marketing opportunities and more!\n\n\n	\n\n	We will provide drinks to this informal and education lunch meeting. Bring your laptops and update your profile during the session.\n\n	\n\n	RSVP is required.\n\n	Members are free. $5 for future members.
X-ALT-DESC;FMTTYPE=text/html:February Think Tank<br />\n<br />\nMastering the Chamber Tools for Success<br />\n<br />\nGet a first-hand look at YOUR NEW CHAMBER WEBSITE and all of the online tools that increase your online presence. Lear about:<br />\n<ul>\n	<li>\n		Managing your Chamber membership</li>\n	<li>\n		Updating your profile</li>\n	<li>\n		Enhanced profile options</li>\n	<li>\n		Renewing your membership</li>\n	<li>\n		Registering for events and paying online</li>\n	<li>\n		Adding Hot Deals or M2M (Member2Member) offers</li>\n	<li>\n		New marketing opportunities and more!</li>\n</ul>\n<p>\n	<br />\n	We will provide drinks to this informal and education lunch meeting. Bring your laptops and update your profile during the session.</p>\n<p>\n	<br />\n	RSVP is required.<br />\n	Members are free. $5 for future members.<br />\n	<br />\n	&nbsp\;</p>\n
LOCATION:Sponsored and hosted by Breckinridge Inn Hotel 2800 Breckinride Lane (at the Watterson Expressway) We have wi-fi!
UID:e.9037.948
SEQUENCE:3
DTSTAMP:20260424T155425Z
URL:https://business.stmatthewschamber.com/events/details/think-tank-mastering-the-chamber-tools-for-success-02-29-2012-948
END:VEVENT

END:VCALENDAR
