BEGIN:VCALENDAR
VERSION:2.0
PRODID:-//ChamberMaster//Event Calendar 2.0//EN
METHOD:PUBLISH
X-PUBLISHED-TTL:P3D
REFRESH-INTERVAL:P3D
CALSCALE:GREGORIAN
BEGIN:VEVENT
DTSTART:20120515T120000Z
DTEND:20120515T140000Z
X-MICROSOFT-CDO-ALLDAYEVENT:FALSE
SUMMARY:Think Tank - From Vision Gaps to Action Steps ~ A Four-Step Process for Business
DESCRIPTION:May's Think Tank offers a special 2-hour program for business owners planning for growth in 2012. \n\n \n\nFrom Vision Gaps to Action Steps - A Four-Step Process for Business Planning\n\nStep 1.\n\nWhere is your business today?\n\nStep 2.\n\nWhere do you want to be 3 years from now?\n\nStep 3.\n\nWhat are the gaps between your now and your vision for the future?\n\nStep 4.\n\nWhat actions can you take now to make your vision a reality?\n\n \n\nPresented by Christy Jarboe\, Director of Marketing & Business Development\, TKT & Associates\, Inc.\n\nConsultant and facilitator of small business growth development programs.
X-ALT-DESC;FMTTYPE=text/html:<span style="font-family:arial\,sans-serif\;"><span style="font-size:10.0pt\;">May&rsquo\;s Think Tank offers a special 2-hour program for business owners planning for growth in 2012. </span></span><br />\n&nbsp\;<br />\n<span style="color:black\;"><span style="font-family:arial\,sans-serif\;">From Vision Gaps to Action Steps - <em><span style="font-family:arial\,sans-serif\;">A Four-Step Process for Business Planning</span></em></span></span><br />\n<span style="font-family:arial\,sans-serif\;"><span style="font-size:10.0pt\;">Step 1.</span></span><br />\n<span style="font-family:arial\,sans-serif\;"><span style="font-size:10.0pt\;">Where is your business today?</span></span><br />\n<span style="font-family:arial\,sans-serif\;"><span style="font-size:10.0pt\;">Step 2.</span></span><br />\n<span style="font-family:arial\,sans-serif\;"><span style="font-size:10.0pt\;">Where do you want to be 3 years from now?</span></span><br />\n<span style="font-family:arial\,sans-serif\;"><span style="font-size:10.0pt\;">Step 3.</span></span><br />\n<span style="font-family:arial\,sans-serif\;"><span style="font-size:10.0pt\;">What are the gaps between your now and your vision for the future?</span></span><br />\n<span style="font-family:arial\,sans-serif\;"><span style="font-size:10.0pt\;">Step 4.</span></span><br />\n<span style="font-family:arial\,sans-serif\;"><span style="font-size:10.0pt\;">What actions can you take now to make your vision a reality?</span></span><br />\n&nbsp\;<br />\n<span style="font-family:arial\,sans-serif\;"><span style="font-size:10.0pt\;">Presented by Christy Jarboe\, Director of Marketing &amp\; Business Development\, TKT &amp\; Associates\, Inc.</span></span><br />\n<span style="font-family:arial\,sans-serif\;"><span style="font-size:10.0pt\;">Consultant and facilitator of small business growth development programs. </span></span>
LOCATION:
UID:e.9037.990
SEQUENCE:3
DTSTAMP:20260424T121428Z
URL:https://business.stmatthewschamber.com/events/details/think-tank-from-vision-gaps-to-action-steps-a-four-step-process-for-business-05-15-2012-990
END:VEVENT

END:VCALENDAR
