BEGIN:VCALENDAR
VERSION:2.0
PRODID:-//ChamberMaster//Event Calendar 2.0//EN
METHOD:PUBLISH
X-PUBLISHED-TTL:P3D
REFRESH-INTERVAL:P3D
CALSCALE:GREGORIAN
BEGIN:VEVENT
DTSTART:20120405T220000Z
DTEND:20120405T233000Z
X-MICROSOFT-CDO-ALLDAYEVENT:FALSE
SUMMARY:The Role of Nutrition in Headache Prevention
DESCRIPTION:Headache School\n\nDo you suffer from chronic headaches or migraines? If so\, these monthly sessions are just what the doctor ordered. Led by physicians from the Norton Neuroscience Institute\, each session will include a brief educational discussion\, followed by questions and answers.\n\n\n\nThe Role of Nutrition \n\nLearn how your diet can trigger headaches. This discussion will include foods to avoid and other dietary factors related to controlling headache pain.\n\n\n\nTo register\, call (502) 629-1234
X-ALT-DESC;FMTTYPE=text/html:<strong>Headache School</strong><br />\nDo you suffer from chronic headaches or migraines? If so\, these monthly sessions are just what the doctor ordered. Led by physicians from the Norton Neuroscience Institute\, each session will include a brief educational discussion\, followed by questions and answers.<br />\n<br />\n<strong>The Role of Nutrition </strong><br />\nLearn how your diet can trigger headaches. This discussion will include foods to avoid and other dietary factors related to controlling headache pain.<br />\n<br />\nTo register\, call (502) <strong>629-1234</strong><br />\n
LOCATION:Marshall Women's Center Norton Suburban Hospital | Plaza III | Classroom IB
UID:e.9037.1038
SEQUENCE:3
DTSTAMP:20260424T152911Z
URL:https://business.stmatthewschamber.com/events/details/the-role-of-nutrition-in-headache-prevention-04-05-2012-1038
END:VEVENT

END:VCALENDAR
