BEGIN:VCALENDAR
VERSION:2.0
PRODID:-//ChamberMaster//Event Calendar 2.0//EN
METHOD:PUBLISH
X-PUBLISHED-TTL:P3D
REFRESH-INTERVAL:P3D
CALSCALE:GREGORIAN
BEGIN:VEVENT
DTSTART:20260512T160000Z
DTEND:20260512T170000Z
X-MICROSOFT-CDO-ALLDAYEVENT:FALSE
SUMMARY:The Q Group Lunch
DESCRIPTION:Community. Connection. Celebration.\n\nA proud initiative of The Chamber St. Matthews
X-ALT-DESC;FMTTYPE=text/html:<p data-end="345" data-start="231">Community. Connection. Celebration.<br data-end="299" data-start="296" />\nA proud initiative of The Chamber St. Matthews</p>\n\n<p data-end="600" data-start="347">&nbsp\;</p>\n
LOCATION:TBD
UID:e.9037.12976
SEQUENCE:3
DTSTAMP:20260424T102653Z
URL:https://business.stmatthewschamber.com/events/details/the-q-group-lunch-12976
END:VEVENT

END:VCALENDAR
