BEGIN:VCALENDAR
VERSION:2.0
PRODID:-//ChamberMaster//Event Calendar 2.0//EN
METHOD:PUBLISH
X-PUBLISHED-TTL:P3D
REFRESH-INTERVAL:P3D
CALSCALE:GREGORIAN
BEGIN:VEVENT
DTSTART:20120509T220000Z
DTEND:20120510T000000Z
X-MICROSOFT-CDO-ALLDAYEVENT:FALSE
SUMMARY:The Legalitites of Health Care
DESCRIPTION:The Legalities of Health Care\n\nThough emergencies can happen at any time\, you can prepare for them by making sure you have the legal forms required during a medical emergency. Join us for an overview of legal forms for health care services and a discussion about the importance of selecting a health care proxy. A sampling of legal forms will be available.\n\n\n\nWednesday\, May 9   6 to 8 p.m. \n\n\n\nTo register\, call (502) 629-1234.
X-ALT-DESC;FMTTYPE=text/html:<strong>The Legalities of Health Care</strong><br />\nThough emergencies can happen at any time\, you can prepare for them by making sure you have the legal forms required during a medical emergency. Join us for an overview of legal forms for health care services and a discussion about the importance of selecting a health care proxy. A sampling of legal forms will be available.<br />\n<br />\nWednesday\, <strong>May 9 &ndash\; 6 to 8 p.m. </strong><br />\n<br />\nTo register\, call (502)<strong> 629-1234</strong>.
LOCATION:Marshall Women's Health & Education Center Norton Suburban Hospital | Plaza III | Classroom IB
UID:e.9037.1049
SEQUENCE:3
DTSTAMP:20260424T134755Z
URL:https://business.stmatthewschamber.com/events/details/the-legalitites-of-health-care-05-09-2012-1049
END:VEVENT

END:VCALENDAR
