BEGIN:VCALENDAR
VERSION:2.0
PRODID:-//ChamberMaster//Event Calendar 2.0//EN
METHOD:PUBLISH
X-PUBLISHED-TTL:P3D
REFRESH-INTERVAL:P3D
CALSCALE:GREGORIAN
BEGIN:VEVENT
DTSTART:20130921T143000Z
DTEND:20130921T163000Z
X-MICROSOFT-CDO-ALLDAYEVENT:FALSE
SUMMARY:Ten Blind People Everyone Should Know
DESCRIPTION:Sure\, you know about Helen Keller and Louis Braille\, but other people who happened to be blind deserve recognition as well. What about Jacques Lusseyran\, who worked with the Resistance in France during World War II? Or Morris Frank\, who pioneered the use of dogs as guides for the blind in the U.S.? Or the harpist Turlough Carolan\, Ireland's national composer? Come learn their stories and why we should remember them. The event is free\, but registrations are required. Call 899-2213 by September 19 to register. Best for adults and children age 12 and up.
X-ALT-DESC;FMTTYPE=text/html:<div>\n	Sure\, you know about Helen Keller and Louis Braille\, but other people who happened to be blind deserve recognition as well. What about Jacques Lusseyran\, who worked with the Resistance in France during World War II? Or Morris Frank\, who pioneered the use of dogs as guides for the blind in the U.S.? Or the harpist Turlough Carolan\, Ireland&#39\;s national composer? Come learn their stories and why we should remember them. The event is free\, but registrations are required. Call 899-2213 by September 19 to register. Best for adults and children age 12 and up.</div>\n<div>\n	&nbsp\;</div>\n
LOCATION:American Printing House for the Blind\, 1839 Frankfort Avenue\, at State Street\, Louisville\, 40207
UID:e.9037.1602
SEQUENCE:3
DTSTAMP:20260425T180906Z
URL:https://business.stmatthewschamber.com/events/details/ten-blind-people-everyone-should-know-09-21-2013-1602
END:VEVENT

END:VCALENDAR
