BEGIN:VCALENDAR
VERSION:2.0
PRODID:-//ChamberMaster//Event Calendar 2.0//EN
METHOD:PUBLISH
X-PUBLISHED-TTL:P3D
REFRESH-INTERVAL:P3D
CALSCALE:GREGORIAN
BEGIN:VEVENT
DTSTART:20120414T120000Z
DTEND:20120414T140000Z
X-MICROSOFT-CDO-ALLDAYEVENT:FALSE
SUMMARY:'Talkin' Aches and Pains' Discussion at Baptist East/Milestone Wellness Center
DESCRIPTION:If you have hips and knees that ache from arthritis\, attend a free\, informational discussion about coping with pain and total or partial knee and hip replacement at 8 a.m. on Saturday\, April 14 at the Baptist East/Milestone Wellness Center\, 750 Cypress Station Drive.\n\nThe "Talkin' Aches and Pains" discussion will be led by Orthopedic Surgeon Ernest Eggers\, MD\, who is on the medical staff at Baptist Hospital East.\n\nDr. Eggers is among several orthopedic surgeons who perform surgery at Baptist East. More total joint replacement surgeries are performed at Baptist East than any other hospital in Kentucky.\n\nEnrollment is limited. For more information\, or to register\, stop by or call the Wellness Center's service desk at (502) 896-3900.
X-ALT-DESC;FMTTYPE=text/html:If you have hips and knees that ache from arthritis\, attend a free\, informational discussion about coping with pain and total or partial knee and hip replacement at 8 a.m. on Saturday\, April 14 at the Baptist East/Milestone Wellness Center\, 750 Cypress Station Drive.<br />\nThe &ldquo\;Talkin&rsquo\; Aches and Pains&rdquo\; discussion will be led by Orthopedic Surgeon Ernest Eggers\, MD\, who is on the medical staff at Baptist Hospital East.<br />\nDr. Eggers is among several orthopedic surgeons who perform surgery at Baptist East. More total joint replacement surgeries are performed at Baptist East than any other hospital in Kentucky.<br />\nEnrollment is limited. For more information\, or to register\, stop by or call the Wellness Center&rsquo\;s service desk at (502) 896-3900.<br />\n
LOCATION:Baptist East/Milestone Wellness Center\, 750 Cypress Station Drive.
UID:e.9037.1056
SEQUENCE:3
DTSTAMP:20260424T164017Z
URL:https://business.stmatthewschamber.com/events/details/talkin-aches-and-pains-discussion-at-baptist-east-milestone-wellness-center-04-14-2012-1056
END:VEVENT

END:VCALENDAR
