BEGIN:VCALENDAR
VERSION:2.0
PRODID:-//ChamberMaster//Event Calendar 2.0//EN
METHOD:PUBLISH
X-PUBLISHED-TTL:P3D
REFRESH-INTERVAL:P3D
CALSCALE:GREGORIAN
BEGIN:VEVENT
DTSTART:20130629T130000Z
DTEND:20130630T200000Z
X-MICROSOFT-CDO-ALLDAYEVENT:FALSE
SUMMARY:Tai Chi for Arthritis Instructor Training Workshop with Peter Buecker
DESCRIPTION:Tai Chi for Arthritis Instructor Training Workshop   with  Peter Buecker   \n\n\n\n	Tai Chi for Arthritis\, designed by Australian family physician Paul Lam\, is based on the Sun style Tai Chi. TCA is easy to learn\, effective\, and safe. It increases flexibility\, muscle strength\, and heart/lung activity\, aligns posture\, improves balance\, and integrates the mind and body. Scientific studies conducted by Seoul National University in 2001 and the Arthritis Foundation of New South Wales in 2001 have shown this program to be safe and effective. Thousands of people with arthritis have gained pain relief and a better quality of life from learning and practicing TCA. Classes are advertised and supported by the National Arthritis Foundation. The cost is $245 for TCA 1 or $95 for an update. Register on line\, clicking on MT workshops at www.taichiforhealthinstitute.org
X-ALT-DESC;FMTTYPE=text/html:<div class="bb4 mainTextBig">\n	<span style="float: left"><strong><a class="className" href="https://clients.mindbodyonline.com/asp/adm/adm_cs_e.asp?classID=124">Tai Chi for Arthritis Instructor Training Workshop</a> </strong> <span class="mainText"> with </span> <a class="teacherName" href="https://clients.mindbodyonline.com/asp/adm/adm_trn_e.asp?trnID=4">Peter Buecker</a> </span> <span class="locationLink"> </span></div>\n<br />\n<div class="description userHTML">\n	Tai Chi for Arthritis\, designed by Australian family physician Paul Lam\, is based on the Sun style Tai Chi. TCA is easy to learn\, effective\, and safe. It increases flexibility\, muscle strength\, and heart/lung activity\, aligns posture\, improves balance\, and integrates the mind and body. Scientific studies conducted by Seoul National University in 2001 and the Arthritis Foundation of New South Wales in 2001 have shown this program to be safe and effective. Thousands of people with arthritis have gained pain relief and a better quality of life from learning and practicing TCA. Classes are advertised and supported by the National Arthritis Foundation. The cost is $245 for TCA 1 or $95 for an update. Register on line\, clicking on MT workshops at www.taichiforhealthinstitute.org</div>\n<div class="notes userHTML">\n	&nbsp\;</div>\n
LOCATION:Wellness 360 241 Sears Ave Louisville\, KY
UID:e.9037.1585
SEQUENCE:3
DTSTAMP:20260425T144422Z
URL:https://business.stmatthewschamber.com/events/details/tai-chi-for-arthritis-instructor-training-workshop-with-peter-buecker-06-29-2013-1585
END:VEVENT

END:VCALENDAR
