BEGIN:VCALENDAR
VERSION:2.0
PRODID:-//ChamberMaster//Event Calendar 2.0//EN
METHOD:PUBLISH
X-PUBLISHED-TTL:P3D
REFRESH-INTERVAL:P3D
CALSCALE:GREGORIAN
BEGIN:VEVENT
DTSTART:20130626T111500Z
DTEND:20130626T120000Z
X-MICROSOFT-CDO-ALLDAYEVENT:FALSE
SUMMARY:Sunrise Meditation
DESCRIPTION:Wellness 360 invites you to attend Sunrise Meditation on Wednesday mornings. This mindfulness practice is designed to help you relax and center yourself mid-week. Join Peter J. Buecker\, MD\, owner and medical director of Wellness 360\, as he leads the practice in our serene and supportive environment.\n\n\n\nThis meditation is open to all\, from absolute beginners to those with more experience\, and is perfectly compatible with any faith tradition.\n\n\n\nPlan to arrive and be settled in your seat by 7:15a. Newcomers please arrive by 7:00a for a brief introduction to the practice. Start your day with a sense of calm\, focus\, and mental clarity.\n\n\n\nOpen to the public\, $5 donation suggested.
X-ALT-DESC;FMTTYPE=text/html:Wellness 360 invites you to attend Sunrise Meditation on Wednesday mornings. This mindfulness practice is designed to help you relax and center yourself mid-week. Join Peter J. Buecker\, MD\, owner and medical director of Wellness 360\, as he leads the practice in our serene and supportive environment.<br />\n<br />\nThis meditation is open to all\, from absolute beginners to those with more experience\, and is perfectly compatible with any faith tradition.<br />\n<br />\nPlan to arrive and be settled in your seat by 7:15a. Newcomers please arrive by 7:00a for a brief introduction to the practice. Start your day with a sense of calm\, focus\, and mental clarity.<br />\n<br />\nOpen to the public\, $5 donation suggested.
LOCATION:Wellness 360 Studio 241 Sears Ave Louisville\, KY
UID:e.9037.1582
SEQUENCE:3
DTSTAMP:20260425T155345Z
URL:https://business.stmatthewschamber.com/events/details/sunrise-meditation-06-26-2013-1582
END:VEVENT

END:VCALENDAR
