BEGIN:VCALENDAR
VERSION:2.0
PRODID:-//ChamberMaster//Event Calendar 2.0//EN
METHOD:PUBLISH
X-PUBLISHED-TTL:P3D
REFRESH-INTERVAL:P3D
CALSCALE:GREGORIAN
BEGIN:VEVENT
DTSTART:20120419T170000Z
DTEND:20120419T190000Z
X-MICROSOFT-CDO-ALLDAYEVENT:FALSE
SUMMARY:Stroke Support Group at Baptist Hospital East
DESCRIPTION:The Stroke Support Group will meet from 1-3 p.m. Thursday\, April 19 at Baptist Hospital East's Education Center (Classroom 2A)\, 4000 Kresge Way.\n\nThe Stroke Support Group is for people who have had a stroke\, their family members and friends. It is for people who want to help themselves by:\n\n  meeting people who have had a similar experience\;\n\n  offering encouragement and moral support to others\;\n\n  attending social events\; and\n\n  understanding the many physical and emotional problems associated with strokes.\n\nA stroke just doesn't happen to an individual. It happens to the entire family. Family members and friends often feel confused\, frustrated and isolated. This group provides support\, understanding and encouragement for them.\n\nHealthcare professionals from the Rehabilitation Program at Baptist East serve as group leaders. Group leaders consist of a chaplain\, social workers and recreational therapists.\n\nThe Stroke Support Group is provided free by the Rehabilitation Program at Baptist East. Attendance is open to anyone who has had a stroke and their family members and friends. For more information\, call (502) 896-7441.
X-ALT-DESC;FMTTYPE=text/html:The Stroke Support Group will meet from 1-3 p.m. Thursday\, April 19 at Baptist Hospital East&rsquo\;s Education Center (Classroom 2A)\, 4000 Kresge Way.<br />\nThe Stroke Support Group is for people who have had a stroke\, their family members and friends. It is for people who want to help themselves by:<br />\n&bull\; meeting people who have had a similar experience\;<br />\n&bull\; offering encouragement and moral support to others\;<br />\n&bull\; attending social events\; and<br />\n&bull\; understanding the many physical and emotional problems associated with strokes.<br />\nA stroke just doesn&#39\;t happen to an individual. It happens to the entire family. Family members and friends often feel confused\, frustrated and isolated. This group provides support\, understanding and encouragement for them.<br />\nHealthcare professionals from the Rehabilitation Program at Baptist East serve as group leaders. Group leaders consist of a chaplain\, social workers and recreational therapists.<br />\nThe Stroke Support Group is provided free by the Rehabilitation Program at Baptist East. Attendance is open to anyone who has had a stroke and their family members and friends. For more information\, call (502) 896-7441.<br />\n
LOCATION:Baptist Hospital East?s Education Center (Classroom 2A)\, 4000 Kresge Way.
UID:e.9037.1023
SEQUENCE:3
DTSTAMP:20260424T152527Z
URL:https://business.stmatthewschamber.com/events/details/stroke-support-group-at-baptist-hospital-east-04-19-2012-1023
END:VEVENT

END:VCALENDAR
