BEGIN:VCALENDAR
VERSION:2.0
PRODID:-//ChamberMaster//Event Calendar 2.0//EN
METHOD:PUBLISH
X-PUBLISHED-TTL:P3D
REFRESH-INTERVAL:P3D
CALSCALE:GREGORIAN
BEGIN:VEVENT
DTSTART:20120612T220000Z
DTEND:20120612T233000Z
X-MICROSOFT-CDO-ALLDAYEVENT:FALSE
SUMMARY:Stress and Your Children
DESCRIPTION:Stress and Your Children\n\n\n\nUnderstand the role stress plays in your child's life and how it affects their body. Learn how to help your child manage and reduce stress levels to improve overall health and well-being.\n\n\n\nJune 12 | 6 -  7:30 p.m.\n\n\n\nTo register\, call (502) 629-1234.
X-ALT-DESC;FMTTYPE=text/html:<strong>Stress and Your Children</strong><br />\n<br />\nUnderstand the role stress plays in your child&#39\;s life and how it affects their body. Learn how to help your child manage and reduce stress levels to improve overall health and well-being.<br />\n<br />\nJune 12 | 6 - &nbsp\;7:30 p.m.<br />\n<br />\nTo register\, call (502) <strong>629-1234</strong>.<br />\n<br />\n
LOCATION:Marshall Women's Health & Education Center Norton Suburban Hospital | Plaza III | Classroom IB
UID:e.9037.1042
SEQUENCE:3
DTSTAMP:20260424T133409Z
URL:https://business.stmatthewschamber.com/events/details/stress-and-your-children-06-12-2012-1042
END:VEVENT

END:VCALENDAR
