BEGIN:VCALENDAR
VERSION:2.0
PRODID:-//ChamberMaster//Event Calendar 2.0//EN
METHOD:PUBLISH
X-PUBLISHED-TTL:P3D
REFRESH-INTERVAL:P3D
CALSCALE:GREGORIAN
BEGIN:VEVENT
DTSTART:20120410T220000Z
DTEND:20120410T233000Z
X-MICROSOFT-CDO-ALLDAYEVENT:FALSE
SUMMARY:Stress and Your Body
DESCRIPTION:Stress and Your Body\n\n\n\nUnderstand the role stress plays in your life and how it affects your body. Learn how to manage and reduce stress levels to improve overall health and well-being.\n\n\n\nApril 10\n\n6 - 7:30 p.m.\n\n\n\nTo register\, call (502) 629-1234.
X-ALT-DESC;FMTTYPE=text/html:<strong>Stress and Your Body</strong><br />\n<br />\nUnderstand the role stress plays in your life and how it affects your body. Learn how to manage and reduce stress levels to improve overall health and well-being.<br />\n<br />\nApril 10<br />\n6 - 7:30 p.m.<br />\n<br />\nTo register\, call (502) <strong>629-1234.</strong><br />\n<br />\n
LOCATION:Marshall Women's Health & Education Center Norton Suburban Hospital | Plaza III | Classroom IB
UID:e.9037.1041
SEQUENCE:3
DTSTAMP:20260424T152346Z
URL:https://business.stmatthewschamber.com/events/details/stress-and-your-body-04-10-2012-1041
END:VEVENT

END:VCALENDAR
