BEGIN:VCALENDAR
VERSION:2.0
PRODID:-//ChamberMaster//Event Calendar 2.0//EN
METHOD:PUBLISH
X-PUBLISHED-TTL:P3D
REFRESH-INTERVAL:P3D
CALSCALE:GREGORIAN
BEGIN:VEVENT
DTSTART;VALUE=DATE:20140308
DTEND;VALUE=DATE:20140512
TRANSP:TRANSPARENT
X-MICROSOFT-CDO-ALLDAYEVENT:TRUE
SUMMARY:Stirring the Fire (Exhibit)
DESCRIPTION:A photography exhibition produced by social documentary photographer Phil Borges. Visitors will learn about issues facing woman and girls worldwide. The stories of remarkable women reveal the practical pathways that helped them achieve social and economic justice in their communities and beyond.
X-ALT-DESC;FMTTYPE=text/html:A photography exhibition produced by social documentary photographer Phil Borges. Visitors will learn about issues facing woman and girls worldwide. The stories of remarkable women reveal the practical pathways that helped them achieve social and economic justice in their communities and beyond.
LOCATION:Muhammad Ali Center 144 N. Sixth St Louisville. KY 40202
UID:e.9037.1701
SEQUENCE:3
DTSTAMP:20260426T010735Z
URL:https://business.stmatthewschamber.com/events/details/stirring-the-fire-exhibit-03-08-2014-1701
END:VEVENT

END:VCALENDAR
