BEGIN:VCALENDAR
VERSION:2.0
PRODID:-//ChamberMaster//Event Calendar 2.0//EN
METHOD:PUBLISH
X-PUBLISHED-TTL:P3D
REFRESH-INTERVAL:P3D
CALSCALE:GREGORIAN
BEGIN:VEVENT
DTSTART:20120519T150000Z
DTEND:20120520T020000Z
X-MICROSOFT-CDO-ALLDAYEVENT:FALSE
SUMMARY:St. Matthews Street Festival
DESCRIPTION:The St. Matthews Area Chamber of Commerce Merchant Council is proud to present St. Matthews Annual Street Festival. This is a day-long festival held on Frankfort Avenue between Lexington Road intersection to Bauer Ave.  The Festival will highlight the community's business\, history\, cuisine and style\, showcasing the area's retailers\, restaurant\, live entertainment and much more. Family fun and activities include the Kidz Zone and Wellness Fair.\n\n	The St. Matthews Street Festival is looking for vendors who have something special\, unique or delicious to share with people of Metro Louisville. Do you showcase beautiful pieces of art? Create clever crafts? Import fabulous treasures? Package gourmet treats?  Provide unique services? What would your business showcase?  All businesses are encouraged to participate!\n\n	St. Matthews Annual Street Festival is replacing the Annual Community Festival in Brown Park.\n\n	   Retail Booths\n\n	   Live Music\n\n	   Kidz Zone\n\n	   Wellness Fair\n\n	   Beer Garden\n\n	   Food Court\n\n	Plan on joining us ~ as a vendor\, sponsor or attendee ~ on Saturday\, May 19\, 2012.\n\n	  Get involved and reserve your booth space today\n\n	 We need YOU ~ Volunteer opportunities are also available.  Contact libby@stmatthewschamber.com if you'd like to volunteer or for more information.
X-ALT-DESC;FMTTYPE=text/html:<p>\n	The St. Matthews Area Chamber of Commerce Merchant Council is proud to present St. Matthews Annual Street Festival. This is a day-long festival held on Frankfort Avenue between Lexington Road intersection to Bauer Ave.&nbsp\; The Festival will highlight the community&rsquo\;s business\, history\, cuisine and style\, showcasing the area&rsquo\;s retailers\, restaurant\, live entertainment and much more. Family fun and activities include the Kidz Zone and Wellness Fair.</p>\n<p>\n	The St. Matthews Street Festival is looking for vendors who have something special\, unique or delicious to share with people of Metro Louisville. Do you showcase beautiful pieces of art? Create clever crafts? Import fabulous treasures? Package gourmet treats?&nbsp\; Provide unique services? What would your business showcase?&nbsp\; All businesses are encouraged to participate!</p>\n<p align="center">\n	<em>St. Matthews Annual Street Festival is replacing the Annual Community Festival in Brown Park.</em></p>\n<p style="padding-left: 150px\;">\n	&Oslash\;&nbsp\; Retail Booths</p>\n<p style="padding-left: 150px\;">\n	&Oslash\;&nbsp\; Live Music</p>\n<p style="padding-left: 150px\;">\n	&Oslash\;&nbsp\; Kidz Zone</p>\n<p style="padding-left: 150px\;">\n	&Oslash\;&nbsp\; Wellness Fair</p>\n<p style="padding-left: 150px\;">\n	&Oslash\;&nbsp\; Beer Garden</p>\n<p style="padding-left: 150px\;">\n	&Oslash\;&nbsp\; Food Court</p>\n<p align="center">\n	Plan on joining us ~ as a vendor\, sponsor or attendee ~ on Saturday\, May 19\, 2012.</p>\n<p align="center">\n	&nbsp\; Get involved and reserve your booth space today</p>\n<p align="center">\n	&nbsp\;We need YOU ~ Volunteer opportunities are also available.&nbsp\; Contact <a href="mailto:libby@stmatthewschamber.com">libby@stmatthewschamber.com</a> if you&rsquo\;d like to volunteer or for more information.</p>\n
LOCATION:Frankfort Avenue between Lexington Road and Bauer Avenue
UID:e.9037.1029
SEQUENCE:3
DTSTAMP:20260424T103545Z
URL:https://business.stmatthewschamber.com/events/details/st-matthews-street-festival-05-19-2012-1029
END:VEVENT

END:VCALENDAR
