BEGIN:VCALENDAR
VERSION:2.0
PRODID:-//ChamberMaster//Event Calendar 2.0//EN
METHOD:PUBLISH
X-PUBLISHED-TTL:P3D
REFRESH-INTERVAL:P3D
CALSCALE:GREGORIAN
BEGIN:VEVENT
DTSTART:20130518T140000Z
DTEND:20130519T020000Z
X-MICROSOFT-CDO-ALLDAYEVENT:FALSE
SUMMARY:St. Matthews Street Festival
DESCRIPTION:
X-ALT-DESC;FMTTYPE=text/html:
LOCATION:
UID:e.9037.1407
SEQUENCE:3
DTSTAMP:20260421T192235Z
URL:https://business.stmatthewschamber.com/events/details/st-matthews-street-festival-05-18-2013-1407
END:VEVENT

END:VCALENDAR
