BEGIN:VCALENDAR
VERSION:2.0
PRODID:-//ChamberMaster//Event Calendar 2.0//EN
METHOD:PUBLISH
X-PUBLISHED-TTL:P3D
REFRESH-INTERVAL:P3D
CALSCALE:GREGORIAN
BEGIN:VEVENT
DTSTART:20140517T150000Z
DTEND:20140518T020000Z
X-MICROSOFT-CDO-ALLDAYEVENT:FALSE
SUMMARY:St. Matthews Street Festival
DESCRIPTION:
X-ALT-DESC;FMTTYPE=text/html:
LOCATION:
UID:e.9037.1659
SEQUENCE:3
DTSTAMP:20260426T033137Z
URL:https://business.stmatthewschamber.com/events/details/st-matthews-street-festival-05-17-2014-1659
END:VEVENT

END:VCALENDAR
