BEGIN:VCALENDAR
VERSION:2.0
PRODID:-//ChamberMaster//Event Calendar 2.0//EN
METHOD:PUBLISH
X-PUBLISHED-TTL:P3D
REFRESH-INTERVAL:P3D
CALSCALE:GREGORIAN
BEGIN:VEVENT
DTSTART:20120725T230000Z
DTEND:20120726T030000Z
X-MICROSOFT-CDO-ALLDAYEVENT:FALSE
SUMMARY:St. Matthews Mid-Summer?s Night 5K Run/Walk
DESCRIPTION:Our annual 5K started in the summer of 2009 and benefits the West End School. The run is a Wednesday evening run in the last week of July. The race starts in the heart of St. Matthews in the parking lot of Bethel St. Paul and the evening finishes with a cookout and awards on Saints' patio.\n\n \n\nThe registration fee includes a t-shirt\, entry to the race and the free cookout at Saint's. The top male and female from each age category will be recognized\, as well as the top 3 overall for men and women. The age categories are as follows:\n\n \n\n14 and under\n\n15-19\n\n20-29\n\n30-39\n\n40-49\n\n50-59\n\n60+\n\n \n\nAlso joining us at the race will be the founders and the students of the West End School. This is an opportunity for the students to see how much the community cares for them!\n\n \n\nPrices\n\nRace Participant: $25 Early Registration* (deadline: 5 PM\, July 20th)\n\n$35 Late Registration (July 21st-July 24th)\n\n$40 Day-of Registration\n\nIncludes 5k T-shirt and entrance to the post-race cookout\n\n \n\nRace Sponsor: $275\n\nIncludes your company name on the 5k T-shirt and 2 free participants in the 5k run/walk\n\nPremiere Sponsor: $550\n\nIncludes your company logo on the 5k T-shirt and 4 free participants in the 5k run/walk\n\n \n\nYou may register online through the "Registration" link under the "Events" tab\, by mailing in a registration form\, or by calling in at (502) 451-4560. For more information\, please contact Amy Stemmle at amy@thebenefitsfirm.com.\n\n \n\n*Group student discounts are available. Please contact Amy for more information.
X-ALT-DESC;FMTTYPE=text/html:Our annual 5K started in the summer of 2009 and benefits the West End School. The run is a Wednesday evening run in the last week of July. The race starts in the heart of St. Matthews in the parking lot of Bethel St. Paul and the evening finishes with a cookout and awards on Saints&rsquo\; patio.<br />\n&nbsp\;<br />\nThe registration fee includes a t-shirt\, entry to the race and the free cookout at Saint&rsquo\;s. The top male and female from each age category will be recognized\, as well as the top 3 overall for men and women. The age categories are as follows:<br />\n&nbsp\;<br />\n14 and under<br />\n15-19<br />\n20-29<br />\n30-39<br />\n40-49<br />\n50-59<br />\n60+<br />\n&nbsp\;<br />\nAlso joining us at the race will be the founders and the students of the West End School. This is an opportunity for the students to see how much the community cares for them!<br />\n&nbsp\;<br />\nPrices<br />\nRace Participant: $25 Early Registration* (deadline: 5 PM\, July 20th)<br />\n$35 Late Registration (July 21st-July 24th)<br />\n$40 Day-of Registration<br />\nIncludes 5k T-shirt and entrance to the post-race cookout<br />\n&nbsp\;<br />\nRace Sponsor: $275<br />\nIncludes your company name on the 5k T-shirt and 2 free participants in the 5k run/walk<br />\nPremiere Sponsor: $550<br />\nIncludes your company logo on the 5k T-shirt and 4 free participants in the 5k run/walk<br />\n&nbsp\;<br />\nYou may register online through the &ldquo\;<a href="http://www.thebenefitsfirm.com/events/submit-payment/">Registration</a>&rdquo\; link under the &ldquo\;Events&rdquo\; tab\, by mailing in a registration form\, or by calling in at (502) 451-4560. For more information\, please contact Amy Stemmle at <a href="mailto:amy@thebenefitsfirm.com">amy@thebenefitsfirm.com</a>.<br />\n&nbsp\;<br />\n*Group student discounts are available. Please contact Amy for more information.
LOCATION:
UID:e.9037.1081
SEQUENCE:3
DTSTAMP:20260422T093756Z
URL:https://business.stmatthewschamber.com/events/details/st-matthews-mid-summer-s-night-5k-run-walk-07-25-2012-1081
END:VEVENT

END:VCALENDAR
