BEGIN:VCALENDAR
VERSION:2.0
PRODID:-//ChamberMaster//Event Calendar 2.0//EN
METHOD:PUBLISH
X-PUBLISHED-TTL:P3D
REFRESH-INTERVAL:P3D
CALSCALE:GREGORIAN
BEGIN:VEVENT
DTSTART:20140319T213000Z
DTEND:20140319T230000Z
X-MICROSOFT-CDO-ALLDAYEVENT:FALSE
SUMMARY:Sproutlings Open House
DESCRIPTION:Sproutlings Pediatric Day Care & Preschool\, located on Masonic Homes of Kentucky's Frankfort Avenue campus\, invites you to an Open House on Wednesday\, March 19\, from 5:30 to 7 p.m.\n\n \n\nSproutlings is the region's only child care serving both typical children and medically fragile children so they can learn\, play and grow with one another. At Sproutlings\, you will find certified teachers and nurses\, learning programs for music\, movement\, Spanish and sign language\; low student-teacher ratios\; an exceptional learning environment in the classroom and on our campus\; and opportunities for parent involvement.\n\n \n\nThe application fee will be waived for families who attend the Open House and apply. For more information\, visit SproutlingsDayCare.com or call 753.8222.
X-ALT-DESC;FMTTYPE=text/html:Sproutlings Pediatric Day Care &amp\; Preschool\, located on Masonic Homes of Kentucky&rsquo\;s Frankfort Avenue campus\, invites you to an Open House on Wednesday\, March 19\, from 5:30 to 7 p.m.<br />\n&nbsp\;<br />\nSproutlings is the region&rsquo\;s only child care serving both typical children and medically fragile children so they can learn\, play and grow with one another. At Sproutlings\, you will find certified teachers and nurses\, learning programs for music\, movement\, Spanish and sign language\; low student-teacher ratios\; an exceptional learning environment in the classroom and on our campus\; and opportunities for parent involvement.<br />\n&nbsp\;<br />\nThe application fee will be waived for families who attend the Open House and apply. For more information\, visit SproutlingsDayCare.com or call 753.8222.
LOCATION:
UID:e.9037.1714
SEQUENCE:3
DTSTAMP:20260426T010609Z
URL:https://business.stmatthewschamber.com/events/details/sproutlings-open-house-03-19-2014-1714
END:VEVENT

END:VCALENDAR
