BEGIN:VCALENDAR
VERSION:2.0
PRODID:-//ChamberMaster//Event Calendar 2.0//EN
METHOD:PUBLISH
X-PUBLISHED-TTL:P3D
REFRESH-INTERVAL:P3D
CALSCALE:GREGORIAN
BEGIN:VEVENT
DTSTART:20210804T120000Z
DTEND:20210804T160000Z
X-MICROSOFT-CDO-ALLDAYEVENT:FALSE
SUMMARY:Social Media 101 & Design 101
DESCRIPTION:You won't want to miss these interactive presentations led by Elizabeth Wimpsett and Brytani Raymond from the Social Boutique Marketing Agency. Elizabeth will help us dive into the basics of Social Media for your business and Brytani will teach you the basics of branding\, how to develop a branding kit\, and the basics of design with Canva. For the Design 101 class\, it's recommended that you bring along your tablet or laptop\, to get the full benefit of the class.
X-ALT-DESC;FMTTYPE=text/html:You won&#39\;t want to miss these interactive presentations led by Elizabeth Wimpsett and Brytani Raymond from the Social Boutique Marketing Agency. Elizabeth will help us dive into the basics of Social Media for your business and Brytani will teach you the basics of branding\, how to develop a branding kit\, and the basics of design with Canva. For the Design 101 class\, it&#39\;s recommended that you bring along your tablet or laptop\, to get the full benefit of the class.
LOCATION:Unified Technologies event space 11500 Blankenbaker Access Drive Louisville\, KY 40299
UID:e.9037.6249
SEQUENCE:3
DTSTAMP:20260419T213712Z
URL:https://business.stmatthewschamber.com/events/details/social-media-101-design-101-6249
END:VEVENT

END:VCALENDAR
