BEGIN:VCALENDAR
VERSION:2.0
PRODID:-//ChamberMaster//Event Calendar 2.0//EN
METHOD:PUBLISH
X-PUBLISHED-TTL:P3D
REFRESH-INTERVAL:P3D
CALSCALE:GREGORIAN
BEGIN:VEVENT
DTSTART:20140326T220000Z
DTEND:20140327T000000Z
X-MICROSOFT-CDO-ALLDAYEVENT:FALSE
SUMMARY:Smooth Sailing. Health\, Money\, Family\, Home
DESCRIPTION:Helping you make smart decisions for the next chapter of your life...Attend this symposium and hear experts discuss answers to the questions you have about your next move in life: real estate\, healthcare\, investments\, healthy body\, career and more. Hors d?oeuvres and refreshments included. Speakers include: Ken Schulz (former WHAS Chief Meteorologist)\, Humana Marketpoint Consultant\; Bob Tiell\, Jewish Family and Career Services\; Jessica Gaines\, Louisville Gaines Real Estate\; Jeff Warner\, Stock Yards Bank and Trust Mortgage Banker\; Missy Walker-Mandy\, Dream Cleaning LLC\; Henry Hensley\, Raymond James Investment Broker.
X-ALT-DESC;FMTTYPE=text/html:Helping you make smart decisions for the next chapter of your life...Attend this symposium and hear experts discuss answers to the questions you have about your next move in life: real estate\, healthcare\, investments\, healthy body\, career and more. Hors d?oeuvres and refreshments included. Speakers include: Ken Schulz (former WHAS Chief Meteorologist)\, Humana Marketpoint Consultant\; Bob Tiell\, Jewish Family and Career Services\; Jessica Gaines\, Louisville Gaines Real Estate\; Jeff Warner\, Stock Yards Bank and Trust Mortgage Banker\; Missy Walker-Mandy\, Dream Cleaning LLC\; Henry Hensley\, Raymond James Investment Broker.
LOCATION:Jewish Family and Career Services (Corner of Dutchman?s Lane and Cannons Lane) 2821 Klempner Way Louisville\, KY 40205
UID:e.9037.1718
SEQUENCE:3
DTSTAMP:20260426T022051Z
URL:https://business.stmatthewschamber.com/events/details/smooth-sailing-health-money-family-home-03-26-2014-1718
END:VEVENT

END:VCALENDAR
