BEGIN:VCALENDAR
VERSION:2.0
PRODID:-//ChamberMaster//Event Calendar 2.0//EN
METHOD:PUBLISH
X-PUBLISHED-TTL:P3D
REFRESH-INTERVAL:P3D
CALSCALE:GREGORIAN
BEGIN:VEVENT
DTSTART:20120623T220000Z
DTEND:20120624T013000Z
X-MICROSOFT-CDO-ALLDAYEVENT:FALSE
SUMMARY:Smith-Berry Winery's June 23 Dinner/Concert
DESCRIPTION:The summer is heating up and our concerts are too!\n\n	June 23 is the next date in the Smith-Berry Winery Dinner/Concert Series.\n\n	Join us as we welcome for the first time\, The MacDaddies!!!\n\n	\n\n	\n\n	We are continuing to introduce some new additions to the series for 2012.\n\n	Smith-Berry Sangria anyone?  Two new recipes created here at the winery\, our sangria is fruity and refreshing.  Red and White Sangria will be available by the glass at the next dinner/concert.\n\n	\n\n	\n\n	June 23\n\n	The MacDaddies\n\n	6:00   9:30\n\n	$22.95 per person + tax\n\n	Grilled Pork Chop Sandwiches\n\n	Grilled Marinated Chicken Breasts\n\n	Homemade Pasta Salad\n\n	Slow Cooked Green Beans\n\n	Vinaigrette Coleslaw\n\n	Cookies\, Brownies and Lemon Bars\n\n	Coke products and Water\n\n	Veggie Burgers also available\, must preorder when purchasing tickets\n\n	Visit our website for more details\, \n\n	www.smithberrywinery.com\nPlease call the winery to purchase tickets. 502-845-7091
X-ALT-DESC;FMTTYPE=text/html:<p class="MsoNormal" style="margin: 0in 0in 10pt">\n	<font size="3"><font color="#000000">The summer is heating up and our concerts are too!<br />\n	June 23 is the next date in the Smith-Berry Winery Dinner/Concert Series.<br />\n	Join us as we welcome for the first time\, The MacDaddies!!!<br style="mso-special-character: line-break" />\n	<br style="mso-special-character: line-break" />\n	<o:p></o:p></font></font></p>\n<p class="MsoNormal" style="margin: 0in 0in 10pt">\n	<font size="3"><font color="#000000">We are continuing to introduce some new additions to the series for 2012.<br />\n	Smith-Berry Sangria anyone?<span style="mso-spacerun: yes">&nbsp\; </span>Two new recipes created here at the winery\, our sangria is fruity and refreshing. <span style="mso-spacerun: yes">&nbsp\;</span>Red and White Sangria will be available by the glass at the next dinner/concert.<br style="mso-special-character: line-break" />\n	<br style="mso-special-character: line-break" />\n	<o:p></o:p></font></font></p>\n<p class="MsoNormal" style="margin: 0in 0in 10pt">\n	<font size="3"><font color="#000000">June 23<br />\n	The MacDaddies<br />\n	6:00 &ndash\; 9:30<br />\n	$22.95 per person + tax<o:p></o:p></font></font></p>\n<p class="MsoNormal" style="margin: 0in 0in 10pt">\n	<font size="3"><font color="#000000">Grilled Pork Chop Sandwiches<br />\n	Grilled Marinated Chicken Breasts<br />\n	Homemade Pasta Salad<br />\n	Slow Cooked Green Beans<br />\n	Vinaigrette Coleslaw<br />\n	Cookies\, Brownies and Lemon Bars<br />\n	Coke products and Water<o:p></o:p></font></font></p>\n<p class="MsoNormal" style="margin: 0in 0in 10pt">\n	<font size="3"><font color="#000000">Veggie Burgers also available\, must preorder when purchasing tickets<o:p></o:p></font></font></p>\n<p class="MsoNormal" style="margin: 0in 0in 10pt">\n	<font size="3"><font color="#000000">Visit our website for more details\, </font></font></p>\n<p class="MsoNormal" style="margin: 0in 0in 10pt\;">\n	<font size="3"><font color="#000000">www.smithberrywinery.com<o:p></o:p></font></font></p>\n<span style="line-height: 115%\; font-family: 'calibri'\,'sans-serif'\; font-size: 11pt\;"><font color="#000000">Please</font></span><span style="line-height: 115%\; font-family: 'calibri'\, 'sans-serif'\; font-size: 11pt\; mso-ascii-theme-font: minor-latin\; mso-fareast-font-family: calibri\; mso-fareast-theme-font: minor-latin\; mso-hansi-theme-font: minor-latin\; mso-bidi-font-family: 'times new roman'\; mso-bidi-theme-font: minor-bidi\; mso-ansi-language: en-us\; mso-fareast-language: en-us\; mso-bidi-language: ar-sa"><font color="#000000"> call the winery to purchase tickets. 502-845-7091</font></span>
LOCATION:Smith-Berry Vineyard and Winery
UID:e.9037.1075
SEQUENCE:3
DTSTAMP:20260424T134222Z
URL:https://business.stmatthewschamber.com/events/details/smith-berry-winery-s-june-23-dinner-concert-06-23-2012-1075
END:VEVENT

END:VCALENDAR
