BEGIN:VCALENDAR
VERSION:2.0
PRODID:-//ChamberMaster//Event Calendar 2.0//EN
METHOD:PUBLISH
X-PUBLISHED-TTL:P3D
REFRESH-INTERVAL:P3D
CALSCALE:GREGORIAN
BEGIN:VEVENT
DTSTART:20131107T130000Z
DTEND:20131107T143000Z
X-MICROSOFT-CDO-ALLDAYEVENT:FALSE
SUMMARY:SMACC Think Tank
DESCRIPTION:SMACC Think Tank\n\nBuilding a Family Empire   One Generation at a Time\n\n \n\n\n\nJoin Michael J. McCulloch CRPS  of Wells Fargo Advisors\, as he shares his unique perspective on financial planning family business owners and family members.  Having worked his way up from the warehouse to leadership in his family's business\, Michael has first-hand understanding of the importance of financial planning and business succession.       \n\n \n\nThis session provides members of family-owned businesses with strategies and insights to consider in operating an effective and profitable business.  We will explore a range of topics family-owned businesses must address as they pursue better long-term results:\n\n \n\n-Current economic trends\n\n-Family Business Challenges\n\n-Financial Planning\n\n-Succession Planning/Exit Strategies
X-ALT-DESC;FMTTYPE=text/html:<span style="font-size:14px\;"><em>SMACC Think Tank</em></span><br />\n<strong>Building a Family Empire &ndash\; One Generation at a Time</strong><br />\n&nbsp\;<br />\n<br />\nJoin Michael J. McCulloch CRPS&reg\; of Wells Fargo Advisors\, as he shares his unique perspective on financial planning family business owners and family members.&nbsp\; Having worked his way up from the warehouse to leadership in his family&rsquo\;s business\, Michael has first-hand understanding of the importance of financial planning and business succession.&nbsp\;&nbsp\;&nbsp\;&nbsp\;&nbsp\;&nbsp\;&nbsp\;<br />\n&nbsp\;<br />\nThis session provides members of family-owned businesses with strategies and insights to consider in operating an effective and profitable business.&nbsp\; We will explore a range of topics family-owned businesses must address as they pursue better long-term results:<br />\n&nbsp\;<br />\n-Current economic trends<br />\n-Family Business Challenges<br />\n-Financial Planning<br />\n-Succession Planning/Exit Strategies
LOCATION:Club Olmsted - Masonic Homes Kentucky (Enter through the Bistro at the Olmsted) 3701 Frankfort Avenue (MHKY's campus is located at 3701 Frankfort Avenue (at Bauer Avenue). From Frankfort Avenue\, cross the RR tracks and turn RIGHT at the first stop sign on Masonic Home Drive. Follow the road around to the second stop sign (at Johnson Hall Drive) and turn LEFT. Club Olmsted is on the right and enter down the stairs by the large lightbox sign for The Bistro. We will post signs inside to direct guests to The Club Room.)
UID:e.9037.1615
SEQUENCE:3
DTSTAMP:20260425T203416Z
URL:https://business.stmatthewschamber.com/events/details/smacc-think-tank-11-07-2013-1615
END:VEVENT

END:VCALENDAR
