BEGIN:VCALENDAR
VERSION:2.0
PRODID:-//ChamberMaster//Event Calendar 2.0//EN
METHOD:PUBLISH
X-PUBLISHED-TTL:P3D
REFRESH-INTERVAL:P3D
CALSCALE:GREGORIAN
BEGIN:VEVENT
DTSTART:20131106T123000Z
DTEND:20131106T140000Z
X-MICROSOFT-CDO-ALLDAYEVENT:FALSE
SUMMARY:SMACC Board Meeting
DESCRIPTION:
X-ALT-DESC;FMTTYPE=text/html:
LOCATION:
UID:e.9037.1390
SEQUENCE:3
DTSTAMP:20260421T084900Z
URL:https://business.stmatthewschamber.com/events/details/smacc-board-meeting-11-06-2013-1390
END:VEVENT

END:VCALENDAR
