BEGIN:VCALENDAR
VERSION:2.0
PRODID:-//ChamberMaster//Event Calendar 2.0//EN
METHOD:PUBLISH
X-PUBLISHED-TTL:P3D
REFRESH-INTERVAL:P3D
CALSCALE:GREGORIAN
BEGIN:VEVENT
DTSTART:20130306T123000Z
DTEND:20130306T140000Z
X-MICROSOFT-CDO-ALLDAYEVENT:FALSE
SUMMARY:SMACC Board Meeting
DESCRIPTION:
X-ALT-DESC;FMTTYPE=text/html:
LOCATION:
UID:e.9037.1333
SEQUENCE:3
DTSTAMP:20260421T223307Z
URL:https://business.stmatthewschamber.com/events/details/smacc-board-meeting-03-06-2013-1333
END:VEVENT

END:VCALENDAR
