BEGIN:VCALENDAR
VERSION:2.0
PRODID:-//ChamberMaster//Event Calendar 2.0//EN
METHOD:PUBLISH
X-PUBLISHED-TTL:P3D
REFRESH-INTERVAL:P3D
CALSCALE:GREGORIAN
BEGIN:VEVENT
DTSTART:20110811T203000Z
DTEND:20110811T230000Z
X-MICROSOFT-CDO-ALLDAYEVENT:FALSE
SUMMARY:SMABA Social After Hour Networking Event Hosted by Printworx of Louisville
DESCRIPTION:Join us and PrintWorx of Louisville\n\n"Networking Block Party"\n\n\n\nEnjoy food\, soft drinks and\, of course\, PrintWorx's famous Margaritas!\n\n\n\nCatered by Karem's\n\n\n\nNo cost to SMABA members\; however an RSVP to laura@smaba.org is required.
X-ALT-DESC;FMTTYPE=text/html:Join us and PrintWorx of Louisville<br />\n&quot\;Networking Block Party&quot\;<br />\n<br />\nEnjoy food\, soft drinks and\, of course\, PrintWorx&#39\;s famous Margaritas!<br />\n<br />\nCatered by Karem&#39\;s<br />\n<br />\nNo cost to SMABA members\; however an RSVP to <a href="mailto:laura@smaba.org">laura@smaba.org</a> is required.
LOCATION:PrintWorx of Louisville 3928 Bardstown Road
UID:e.9037.14
SEQUENCE:3
DTSTAMP:20260425T020233Z
URL:https://business.stmatthewschamber.com/events/details/smaba-social-after-hour-networking-event-hosted-by-printworx-of-louisville-08-11-2011-14
END:VEVENT

END:VCALENDAR
