BEGIN:VCALENDAR
VERSION:2.0
PRODID:-//ChamberMaster//Event Calendar 2.0//EN
METHOD:PUBLISH
X-PUBLISHED-TTL:P3D
REFRESH-INTERVAL:P3D
CALSCALE:GREGORIAN
BEGIN:VEVENT
DTSTART;VALUE=DATE:20131122
DTEND;VALUE=DATE:20140106
TRANSP:TRANSPARENT
X-MICROSOFT-CDO-ALLDAYEVENT:TRUE
SUMMARY:Shining a Light
DESCRIPTION:An international photography exhibition that showcases the global and systemic problem of violence against women and highlights the actions individuals and organizations are currently taking to combat this issue. In partnership with MensWork. This exhibit is a ?Fund for the Arts Community Arts Grant Partner? project at the Muhammad Ali Center.
X-ALT-DESC;FMTTYPE=text/html:An international photography exhibition that showcases the global and systemic problem of violence against women and highlights the actions individuals and organizations are currently taking to combat this issue. In partnership with MensWork. This exhibit is a ?Fund for the Arts Community Arts Grant Partner? project at the Muhammad Ali Center.
LOCATION:Muhammad Ali Center 144 N. Sixth Street
UID:e.9037.1637
SEQUENCE:3
DTSTAMP:20260425T203144Z
URL:https://business.stmatthewschamber.com/events/details/shining-a-light-11-22-2013-1637
END:VEVENT

END:VCALENDAR
