BEGIN:VCALENDAR
VERSION:2.0
PRODID:-//ChamberMaster//Event Calendar 2.0//EN
METHOD:PUBLISH
X-PUBLISHED-TTL:P3D
REFRESH-INTERVAL:P3D
CALSCALE:GREGORIAN
BEGIN:VEVENT
DTSTART:20131001T200000Z
DTEND:20131001T220000Z
X-MICROSOFT-CDO-ALLDAYEVENT:FALSE
SUMMARY:Selling in Six
DESCRIPTION:The St. Matthews Area Chamber of Commerce presents\, Selling in Six. Don't miss this high energy\, fun exchange\, meet more people\, make more contacts\, generate more leads. And promote your business! Come network in a small group setting with other Chamber members then share your three minute pitch!
X-ALT-DESC;FMTTYPE=text/html:The St. Matthews Area Chamber of Commerce presents\, Selling in Six. Don&#39\;t miss this high energy\, fun exchange\, meet more people\, make more contacts\, generate more leads. And promote your business! Come network in a small group setting with other Chamber members then share your three minute pitch!
LOCATION:Mellow Mushroom St. Matthews 3922 Shebyville Road Louisville\, KY 40207
UID:e.9037.1595
SEQUENCE:3
DTSTAMP:20260421T084604Z
URL:https://business.stmatthewschamber.com/events/details/selling-in-six-10-01-2013-1595
END:VEVENT

END:VCALENDAR
