BEGIN:VCALENDAR
VERSION:2.0
PRODID:-//ChamberMaster//Event Calendar 2.0//EN
METHOD:PUBLISH
X-PUBLISHED-TTL:P3D
REFRESH-INTERVAL:P3D
CALSCALE:GREGORIAN
BEGIN:VEVENT
DTSTART:20130401T130000Z
DTEND:20130401T200000Z
X-MICROSOFT-CDO-ALLDAYEVENT:FALSE
SUMMARY:Safe Sitter
DESCRIPTION:One-day class for ages 11 to 13\; combines babysitting\n\nbusiness skills with lessons on safety\, first aid and preventing\n\nchoking in young children. Participants must pass practical\n\nand written tests to show they have mastered the key\n\nconcepts necessary to handle an emergency. Cost: $35\;\n\npizza lunch and snacks provided.
X-ALT-DESC;FMTTYPE=text/html:One-day class for ages 11 to 13\; combines babysitting<br />\nbusiness skills with lessons on safety\, first aid and preventing<br />\nchoking in young children. Participants must pass practical<br />\nand written tests to show they have mastered the key<br />\nconcepts necessary to handle an emergency. Cost: $35\;<br />\npizza lunch and snacks provided.
LOCATION:Marshall Women's Health & Education Center\, Norton Medical Plaza III Suburban\, Suite 108
UID:e.9037.1560
SEQUENCE:3
DTSTAMP:20260425T120900Z
URL:https://business.stmatthewschamber.com/events/details/safe-sitter-04-01-2013-1560
END:VEVENT

END:VCALENDAR
