BEGIN:VCALENDAR
VERSION:2.0
PRODID:-//ChamberMaster//Event Calendar 2.0//EN
METHOD:PUBLISH
X-PUBLISHED-TTL:P3D
REFRESH-INTERVAL:P3D
CALSCALE:GREGORIAN
BEGIN:VEVENT
DTSTART:20130925T160000Z
DTEND:20130925T170000Z
X-MICROSOFT-CDO-ALLDAYEVENT:FALSE
SUMMARY:Ribbon Cutting: The Destination
DESCRIPTION:
X-ALT-DESC;FMTTYPE=text/html:
LOCATION:
UID:e.9037.1601
SEQUENCE:3
DTSTAMP:20260421T104303Z
URL:https://business.stmatthewschamber.com/events/details/ribbon-cutting-the-destination-09-25-2013-1601
END:VEVENT

END:VCALENDAR
