BEGIN:VCALENDAR
VERSION:2.0
PRODID:-//ChamberMaster//Event Calendar 2.0//EN
METHOD:PUBLISH
X-PUBLISHED-TTL:P3D
REFRESH-INTERVAL:P3D
CALSCALE:GREGORIAN
BEGIN:VEVENT
DTSTART:20130926T180000Z
DTEND:20130926T190000Z
X-MICROSOFT-CDO-ALLDAYEVENT:FALSE
SUMMARY:Ribbon Cutting: Taste of Kentucky
DESCRIPTION:
X-ALT-DESC;FMTTYPE=text/html:
LOCATION:
UID:e.9037.1610
SEQUENCE:3
DTSTAMP:20260421T123003Z
URL:https://business.stmatthewschamber.com/events/details/ribbon-cutting-taste-of-kentucky-09-26-2013-1610
END:VEVENT

END:VCALENDAR
