BEGIN:VCALENDAR
VERSION:2.0
PRODID:-//ChamberMaster//Event Calendar 2.0//EN
METHOD:PUBLISH
X-PUBLISHED-TTL:P3D
REFRESH-INTERVAL:P3D
CALSCALE:GREGORIAN
BEGIN:VEVENT
DTSTART:20130917T150000Z
DTEND:20130917T160000Z
X-MICROSOFT-CDO-ALLDAYEVENT:FALSE
SUMMARY:Ribbon Cutting: O'Charley's
DESCRIPTION:
X-ALT-DESC;FMTTYPE=text/html:
LOCATION:
UID:e.9037.1598
SEQUENCE:3
DTSTAMP:20260421T104310Z
URL:https://business.stmatthewschamber.com/events/details/ribbon-cutting-o-charley-s-09-17-2013-1598
END:VEVENT

END:VCALENDAR
