BEGIN:VCALENDAR
VERSION:2.0
PRODID:-//ChamberMaster//Event Calendar 2.0//EN
METHOD:PUBLISH
X-PUBLISHED-TTL:P3D
REFRESH-INTERVAL:P3D
CALSCALE:GREGORIAN
BEGIN:VEVENT
DTSTART:20120906T204500Z
DTEND:20120906T230000Z
X-MICROSOFT-CDO-ALLDAYEVENT:FALSE
SUMMARY:Ribbon Cutting - Mellow Mushroom
DESCRIPTION:Click here to edit...
X-ALT-DESC;FMTTYPE=text/html:<div style="color: gray\;">Click here to edit...</div>
LOCATION:Click here to edit...
UID:e.9037.1299
SEQUENCE:3
DTSTAMP:20260422T060345Z
URL:https://business.stmatthewschamber.com/events/details/ribbon-cutting-mellow-mushroom-09-06-2012-1299
END:VEVENT

END:VCALENDAR
