BEGIN:VCALENDAR
VERSION:2.0
PRODID:-//ChamberMaster//Event Calendar 2.0//EN
METHOD:PUBLISH
X-PUBLISHED-TTL:P3D
REFRESH-INTERVAL:P3D
CALSCALE:GREGORIAN
BEGIN:VEVENT
DTSTART:20120627T203000Z
DTEND:20120627T213000Z
X-MICROSOFT-CDO-ALLDAYEVENT:FALSE
SUMMARY:Ribbon Cutting: Mathnasium of St. Matthews
DESCRIPTION:FOR IMMEDIATE RELEASE\n\n \n\nContact:\n\nRichard Hunt\n\nOwner\, Mathnasium of St. Matthews\n\n502-409-MATH (6284)\n\nstmatthews@mathnasium.com\n\n \n\nMathnasium + St. Matthews = Success\n\nMath Only Learning Center Arrives in St. Matthews\n\n \n\nSt. Matthews\, KY - June 15\, 2012 -- Mathnasium\, a math-only learning center for kids\, has opened its newest location in St. Matthews in The Woodlawn Shopping Center at 291 North Hubbards Lane\, Louisville\, KY 40207.\n\n \n\n"It is very exciting to be a part of helping the kids of our community succeed by offering them an opportunity to develop a better understanding of math concepts\," said Richard Hunt\, Owner with Mathnasium of St. Matthews.  "Our goal is to eliminate the confusion and intimidation that often accompanies the subject of math and replace it with understanding and passion."\n\n \n\nMathnasium's program is for students in 2nd through 12th grade who may need to boost their math skills or need an extra challenge.  In addition to math tutoring and homework help\, test prep in ACT and SAT is available.  Mathnasium's approach is to determine what a student knows and does not know\, then tailor a personalized and prescriptive learning program. The goal is to significantly increase a child's math skills\, understanding of math concepts\, and overall school performance\, while building confidence and positive attitude toward the subject.\n\n \n\nIn celebration of its arrival in St. Matthews\, Mathnasium is offering a "Ribbon Cutting Special" where parents can receive free registration with a $50 value until July 2nd.\n\n \n\n"Mathnasium of St. Matthews provides both instruction and practice - all in a welcoming\, comfortable environment\," said Hunt.\n\n \n\nFor more information about Mathnasium of St. Matthews\, please contact Richard Hunt at 502-409-MATH (6284) or stmatthews@mathnasium.com\n\nAbout Mathnasium:  Mathnasium Learning Centers specialize in teaching kids math the way that makes sense to them.  Students go to Mathnasium year-round to catch up\, keep up\, and get ahead in math.  The results are a significant increase in math skills\, a better understanding of math concepts\, and better school performance.  The proprietary Mathnasium Method  is the result of 40 years of hands-on instruction and research.  Franchising since 2003\, Mathnasium has become one of the fastest growing educational franchises\, with a new center opening each week.  There are more than 300 Mathnasium locations in North America\, South America\, Europe\, the Middle East and Asia.  www.mathnasium.com
X-ALT-DESC;FMTTYPE=text/html:<strong><span style="color:black\;"><span style="font-family:calibri\,sans-serif\;"><span style="font-size:13.0pt\;">FOR IMMEDIATE RELEASE</span></span></span></strong><br />\n&nbsp\;<br />\n<span style="color:black\;"><span style="font-family:calibri\,sans-serif\;">Contact:</span></span><br />\n<span style="font-family:calibri\,sans-serif\;">Richard Hunt</span><br />\n<span style="font-family:calibri\,sans-serif\;">Owner\, Mathnasium of St. Matthews</span><br />\n<span style="font-family:calibri\,sans-serif\;">502-409-MATH (6284)</span><br />\n<span style="font-family:calibri\,sans-serif\;">stmatthews@mathnasium.com</span><br />\n&nbsp\;<br />\n<strong><span style="text-transform:uppercase\;"><span style="font-family:calibri\,sans-serif\;"><span style="font-size:24.0pt\;">Mathnasium + St. Matthews</span></span></span></strong><span style="text-transform:uppercase\;"><span style="font-family:calibri\,sans-serif\;"><span style="font-size:24.0pt\;"> <strong>= Success</strong></span></span></span><br />\n<strong><em><span style="font-family:calibri\,sans-serif\;"><span style="font-size:20.0pt\;">Math Only Learning Center Arrives in </span></span></em></strong><em><span style="font-family:calibri\,sans-serif\;"><span style="font-size:20.0pt\;">St. Matthews</span></span></em><br />\n&nbsp\;<br />\n<span style="font-family:calibri\,sans-serif\;">St. Matthews\, KY - June 15\, 2012 -- Mathnasium\, a math-only learning center for kids\, has opened its newest location in St. Matthews in The Woodlawn Shopping Center at 291 North Hubbards Lane\, Louisville\, KY 40207.</span><br />\n&nbsp\;<br />\n<span style="font-family:calibri\,sans-serif\;">&ldquo\;It is very exciting to be a part of helping the kids of our community succeed by offering them an opportunity to develop a better understanding of math concepts\,&rdquo\; said Richard Hunt\, Owner with Mathnasium of St. Matthews.&nbsp\; &ldquo\;Our goal is to eliminate the confusion and intimidation that often accompanies the subject of math and replace it with understanding and passion.&rdquo\;</span><br />\n&nbsp\;<br />\n<span style="font-family:calibri\,sans-serif\;">Mathnasium&rsquo\;s program is for students in 2<sup>nd</sup> through 12<sup>th</sup> grade who may need to boost their math skills or need an extra challenge.&nbsp\; In addition to math tutoring and homework help\, test prep in ACT and SAT is available.&nbsp\; Mathnasium&rsquo\;s approach is to determine what a student knows and does not know\, then tailor a personalized and prescriptive learning program. The goal is to significantly increase a child&rsquo\;s math skills\, understanding of math concepts\, and overall school performance\, while building confidence and positive attitude toward the subject.</span><br />\n&nbsp\;<br />\n<span style="font-family:calibri\,sans-serif\;">In celebration of its arrival in St. Matthews\, Mathnasium is offering a &ldquo\;Ribbon Cutting Special&rdquo\; where parents can receive free registration with a $50 value until July 2<sup>nd</sup>.</span><br />\n&nbsp\;<br />\n<span style="font-family:calibri\,sans-serif\;">&ldquo\;Mathnasium of St. Matthews provides both instruction and practice - all in a welcoming\, comfortable environment\,&rdquo\; said Hunt.</span><br />\n&nbsp\;<br />\n<span style="font-family:calibri\,sans-serif\;">For more information about Mathnasium of St. Matthews\, please contact Richard Hunt at 502-409-MATH (6284) or stmatthews@mathnasium.com</span><br />\n<strong><span style="font-family:arial\,sans-serif\;"><span style="font-size:10.0pt\;">About Mathnasium:</span></span></strong><span style="font-family:arial\,sans-serif\;"><span style="font-size:10.0pt\;">&nbsp\; Mathnasium Learning Centers specialize in teaching kids math the way that makes sense to them.&nbsp\; Students go to Mathnasium year-round to catch up\, keep up\, and get ahead in math.&nbsp\; The results are a significant increase in math skills\, a better understanding of math concepts\, and better school performance.&nbsp\; The proprietary Mathnasium Method&trade\; is the result of 40 years of hands-on instruction and research.&nbsp\; Franchising since 2003\, Mathnasium has become one of the fastest growing educational franchises\, with a new center opening each week.&nbsp\; There are more than 300 Mathnasium locations in North America\, South America\, Europe\, the Middle East and Asia.&nbsp\; </span></span><a href="http://www.mathnasium.com/" target="_blank"><span style="color:windowtext\;"><span style="font-family:arial\,sans-serif\;"><span style="font-size:10.0pt\;">www.mathnasium.com</span></span></span></a>
LOCATION:In The Woodlawn Shopping Center at 291 North Hubbards Lane\, Louisville\, KY 40207.
UID:e.9037.1074
SEQUENCE:3
DTSTAMP:20260424T085118Z
URL:https://business.stmatthewschamber.com/events/details/ribbon-cutting-mathnasium-of-st-matthews-06-27-2012-1074
END:VEVENT

END:VCALENDAR
